Workbook
Name _16_неделя_2021: #REF!
Name _16_неделя_2021: #REF!
Name ALVPRX: #REF!
Name ALVPRX: #REF!
Name art: #REF!
Name art: #REF!
Name ast: #REF!
Name ast: #REF!
Name astkl: #REF!
Name astsk: #REF!
Name astsklad: #REF!
Name bron: #REF!
Name cher: #REF!
Name cheras: #REF!
Name chercher: #REF!
Name cherhug: #REF!
Name cherp: #REF!
Name cherr: #REF!
Name chertab: #REF!
Name CHUR: #REF!
Name COMPALV: #REF!
Name dost: #REF!
Name Excel_BuiltIn_Print_Area_2: #REF!
Name Excel_BuiltIn_Print_Area_2_1: #REF!
Name Excel_BuiltIn_Print_Area_2_1_1: #REF!
Name fff: #REF!
Name ffive: #REF!
Name fin: [1]Лист2!$A$1:$C$339
Name final: [1]Лист2!$A$2:$B$339
Name five: #REF!
Name five: #REF!
Name ger: #REF!
Name ger: #REF!
Name hg: #REF!
Name hg: #REF!
Name hgn: #REF!
Name hoog: #REF!
Name hug: #REF!
Name hugeh: #REF!
Name hugen: #REF!
Name hugenhgn: #REF!
Name hugg: #REF!
Name huggen: #REF!
Name huggg: #REF!
Name huhughug: #REF!
Name HYDNUM: #REF!
Name klast: #REF!
Name klient: #REF!
Name lodold: #REF!
Name neg: #REF!
Name negot: #REF!
Name newheko: '[2]рабочий 2022'!$A$10:$L$1012
Name newhugen: #REF!
Name newhugen: #REF!
Name nid: #REF!
Name nid: #REF!
Name nl: #REF!
Name nl: #REF!
Name nlkl: #REF!
Name notready: #REF!

Sheet Условия работы
B13: ✓ | C13: Для оформления договорных документов:
B14: Индивидуальным предпринимателям: | H14: Юридическим лицам:
C15: ● Копию свидетельства ЕГРИП | H15: ● | I15: Копию Устава
C16: ● Копию ИНН | H16: ● | I16: Копию выписки из ЕГРЮЛ
C17: ● Копию паспорта | H17: ● | I17: Копию уведомления УСН или ЕНВД
C18: ● Копию уведомления УСН или ЕНВД | H18: ● | I18: Карточку с реквизитами предприятия
B20: ✓ | C20: Для обеспечения высокого сервиса обслуживания и правильного понимания Ваших потребностей:
C21: ● Заполненную Анкету клиента (шаблон необходимо запросить у Вашего менеджера)
B26: ✓ | C26: Заказ должен быть заполнен в форме настоящего Прайс-листа и:
C27: ● Соответствовать его требованиям к общему минимальному заказу
C28: ● Соответствовать его требованиям к минимальному заказу / кратности на сорт
B29: ✓ | C29: Бронирование заказа осуществляется исключительно после внесения аванса для бронирования
B30: ✓ | C30: Бронирование и предварительные подтверждения по заказам предоставляются до момента выпуска Производителем готовой продукции на основании его прогнозных данных. В процессе производства эти данные могут неоднократно изменяться по независящим от Производителя причинам (пример: погодные катаклизмы)
C31: ● Исходя из этой информации Вам необходимо принять решение о сроках размещения заказа:
C32: - разместить заказ заранее и иметь возможность бронирования максимально широкого ассортимента продукции, но быть готовым к тому, что информация о первоначальном подтверждении по заказу может меняться
C33: - разместить заказ ближе к дате отгрузки из доступного на тот момент стока (как правило, небольшого по ассортименту), но сразу получить более стабильное подтверждение
B34: ✓ | C34: В связи с динамично меняющимися свободными остатками часть заказа или заказ полностью могут быть не подтверждены
C35: ● Чем больше времени проходит с момента выставления счета на оплату до момента поступления оплаты на наш р/счет, тем выше вероятность неподтверждений
C36: ● В случае неподтверждения заказа мы возвращаем аванс, либо, при Вашем согласии, взамен неподтвержденных сортов предлагаем замены
B37: ✓ | C37: После внесения аванса для бронирования, частичный или полный отказ от заказа по Вашей инициативе не возможны.
B41: ✓ | C41: На протяжения всего периода работы мы будем информировать Вас обо всех изменениях, связанных с исполнением заказа
B42: ✓ | C42: Вам необходимо своевременно и в полном объеме производить все оплаты по заказу
C43: ● В случае нарушения сроков оплаты по заказу, предусмотренных условиями Прайс-листа, мы оставляем за собой право аннулировать Ваш заказ и направить товар в свободную продажу. Возврат внесенных по заказу авансов будет произведен в течение 10 дней после полной реализации заказа за минусом понесенных нами затрат на доставку, сборку, хранение и прочих
B44: ✓ | C44: Мы уведомим Вас о дате готовности Товара к отгрузке
C45: ● Вам будет необходимо осуществить приемку Товара оговоренным способом в срок, не превышающий 3-х рабочих дней с момента уведомления.
B46: ✓ | C46: Товары отгружаются с нашего склада на условиях самовывоза или путем организации доставки нашими силами, но за Ваш счет
C47: ● Во избежание длительного ожидания получения заказа в очереди, отгрузка товаров с нашего склада производится на основании Графика отгрузки
C48: ● Включение заказа в график отгрузки производится после полной его оплаты и, в случае необходимости доставки заказа до терминала транспортной компании, после предоставления Вами Доверенности на право передачи заказа в транспортную компанию.
C49: ● График отгрузки утверждается не позднее 14:00 дня предшествующего отгрузке. Поэтому при оплате заказа или предоставлении доверенности после 14:00 заказ может быть включен в График отгрузки не ранее, чем через один рабочий день.
B50: ✓ | C50: Мы не несем ответственности за частичную недопоставку заказа, вызванную неурожаем, либо гибелью растений по причине рисков хранения у Производителя, а также рисков связанных с изъятием сотрудниками таможни образцов товара для взятия проб в целях фитосанитарного контроля
B52: ✓ | C52: Во время выкопки выдача растений осуществляется не раннее 6-12 дней после оплаты заказа.
B53: ✓ | C53: Сроки выкопки и выдачи растений могут изменяться в зависимости от погодных условий.
B57: ✓ | C57: Мы предоставляем услуги по доставке заказов:
C58: ● До адреса Покупателя (По Москве и МО)
C59: ● До терминала любой транспортной компании в г. Москве
B60: ✓ | C60: Вы самостоятельно выбираете транспортную компанию, определяете условия доставки заказа транспортной компанией в пункт назначения и направляете нам четкое задание на передачу груза в форме Доверенности
C61: ● Мы осуществляем передачу товара в транспортную компанию строго в соответствии с требованиями, указанными Вами в бланке доверенности
C62: ● Право собственности на Товар и риск случайной гибели переходят к Вам с момента передачи нами Товара в транспортную компанию
C63: ● Мы не несем ответственности за потерю качества товара в период его доставки транспортной компанией
B68: ✓ | C68: Если мы передаем Товар, собранный в закрытую тару (в упаковке Производителя) или Вы физически не имеете возможности произвести детальную приемку Товара при его отгрузке, то имеете право в течение 3-х рабочих дней с момента получения Товара, сообщить нам об обнаруженных недостатках путем предъявления претензии
...

Sheet Калькулятор
B2: =Предзаказ_осень2026!X21 -> 0 | C2: шт, количество растений | J2: Дорогие партнеры, мы делаем всё возможное, чтобы как можно лучше обеспечить вас качественным посадочным материалом. И хотим честно вас предупредить, что при сильном изменении ситуации на рынке и в мире, которые могут повлечь за собой удорожание стоимости Транспортной перевозки и/или КДП, мы оставляем за собой право пересмотреть цены и условия по настоящему предложению в любое время до момента передачи вам товара.
B3: =Предзаказ_осень2026!X22 -> 0 | C3: итоговая сумма за растения
B4: Не выбрано! | C4: ← Выберите период поставки
B5: на р/счет | C5: ← Выберите способ оплаты
B6: =IF(B5="в кассу",0%,IF(B5="на р/счет",15%,"выберите способ оплаты!")) -> 0.15 | C6: Комиссия за ден. переводы (КДП)
B8: Растения
B9: =SUM(Предзаказ_осень2026!AB982:AB4794) -> 0 | C9: Количество растений | J9: Стоимость товара иностранного производства, тары, услуги доставки, комиссии за денежный перевод на момент размещения заказа являются ориентировочными/приблизительными. Конечную стоимость Вашего заказа с деталями дополнительных услуг вы сможете расчитать вместе с нашим менеджером.
B10: =B3 -> 0 | C10: Предварительная сумма за растения без КДП | G10: =B3 -> 0
B11: =IF(B6="выберите способ оплаты!","выберите способ оплаты!",B6*G10) -> 0 | C11: Сумма КДП на растения | G11: =IF(B6="выберите способ оплаты!"," - ₽",B6*G10) -> 0
B12: =IF(B6="выберите способ оплаты!","выберите способ оплаты!",B11+B10) -> 0 | C12: Итоговая сумма за растения с КДП | G12: =IF(B6="выберите способ оплаты!"," - ₽",G11+G10) -> 0
B14: ДОРОГОЙ КЛИЕНТ!
B15: Для Вашего удобства мы разрабатываем максимально подробный и прозрачный формат расчета вместимости в тару и доставки.
B16: Просим Вас отнестись с понимание и участием.
B17: Компания Садовая палитра будет Вам благодарна за комментарии и советы по улучшению качества обслуживания!
B19: Доп. услуги (в разработке) | C19: =IF(AND(OR(B20="Навалом",B20="Не выбрано!"),OR(B21="Самовывоз",B21="Не выбрано!")),"",IF(COUNTIF(R74:R82,"В заказе присутствуют крупногабартиные растения, требуется корректировка расчета нашим логистом!")>0,"В заказе присутствуют крупногабартиные растения, требуется корректировка расчета нашим логистом!",""))
B20: Не выбрано! | C20: ← Выберите способ отгрузки растений | K20: *Тара платная, выберете в калькуляторе способ отгрузки Ваших растений: навалом или в тару.
B21: Не выбрано! | C21: ← Выберите способ доставки | E21: *Навалом в транспортную компанию НЕ отгружаем! | K21: Если Ваш груз упакован в разную тару - Вас ждет индивидуальный расчет упаковки растений.
C22: =IF(B21="Доставка до клиента","← Введите расстояние до вас в км",IF(AND(B21="Доставка до ТК",B20="Навалом"),"Отгрузка навалом в ТК невозможна! Выберите другой способ!","")) | K22: *Доставка платная до ближайшего к нашему складу терминала ТК: ПЭК, ЖелДорЭкспедиция, Вера-1.
B23: =IF(B20="Навалом",0,IF(B20="В таре",R85,0)) -> 0 | C23: Предварительная сумма за тару без КДП | K23: Стандартная стоимость доставки до ТК 3000 рублей за 5 и более ПМ.
B24: =IF(B21="Самовывоз",0,IF(B21="Доставка до ТК",IF(B6="выберите способ оплаты!","выберите способ оплаты!",IF(B20<>"Навалом",ROUNDUP(R86,0)*3000,"выберите отгрузку в таре!")),IF(B21="Доставка до клиента",IF(B22="","введите расстояние!",R87),0))) -> 0 | C24: Предварительная сумма за доставку без КДП | K24: Если в заказе менее 5 ПМ - расчет стоимости доставки индивидуальный.
B25: =IF(B6="выберите способ оплаты!","выберите способ оплаты!",B23+B23*B6) -> 0 | C25: Итоговая сумма за тару с КДП (ориентировочно) | K25: *Доставка платная до Вашего адреса.
B26: =IF(B6="выберите способ оплаты!","выберите способ оплаты!",IF(B24="выберите отгрузку в таре!","выберите отгрузку в таре!",IF(B24="введите расстояние!","введите расстояние!",B24+B24*B6))) -> 0 | C26: Итоговая сумма за доставку с КДП (ориентировочно)
B29: =IFERROR(B12+B25+B26,"заполните все параметры") -> 0 | C29: Сумма к оплате (ориентировочно) | G29: *Итоговую сумму заказа составляют: стоимость растений+стоимость тары+стоимость доставки+комиссия за ден переводы.
B38: СПРАВОЧНАЯ вместимость в тару, шт | D38: Точный расчет количества и стоимости тары - после формирования Вашего заказа. | K38: СПРАВОЧНЫЙ расчет объёма заказа | O38: Точный расчет объема - после формирования Вашего заказа.
B40: Контейнер/Тара | D40: Ящик пластиковый 60*40*22 40шт на ПМ | E40: Ящик деревянный 100*120*100 2шт на ПМ | F40: Кольцо 100*120*40 | G40: Поддон 100*120*12 | H40: Бокс для выкопки нестандарт (до 140+) до ТК | I40: Крышка для Ящика деревянного 100*120*2 | K40: Кол-во растений в заказе, шт | L40: Предварительный вес заказа, кг | M40: Ящик пластиковый 60*40*30 40 штук на ПМ | N40: Ящик деревянный 100*120*100 1/2 ПМ | O40: Кольцо 100*120*40 1 шт на 1ПМ (не ТК, клиенту в фуру) | P40: Поддон 100*120*20 | Q40: Бокс для выкопки нестандарт (до 140+) до ТК | R40: ИТОГО
B41: Цена за тару | C41: Вес растения | D41: 350 | E41: 3900 | F41: 1600 | G41: 400 | H41: 5500 | I41: 400
B42: P7 | C42: 0.5 | D42: 40 | E42: 1500 справочно | F42: 700 справочно | K42: =SUMIF(Предзаказ_осень2026!$Q$982:$Q$4224,Калькулятор!B42,Предзаказ_осень2026!$AB$982:$AB$4224) -> 0 | L42: =C42*K42 -> 0 | M42: =K42/D42 -> 0
B43: P9 | C43: 0.55 | D43: 24 | E43: 1000 справочно | F43: 400 справочно | K43: =SUMIF(Предзаказ_осень2026!$Q$982:$Q$4224,Калькулятор!B43,Предзаказ_осень2026!$AB$982:$AB$4224) -> 0 | L43: =C43*K43 -> 0 | M43: =K43/D43 -> 0
B44: P13 | C44: 1 | E44: 190 | K44: =SUMIF(Предзаказ_осень2026!$Q$982:$Q$4224,Калькулятор!B44,Предзаказ_осень2026!$AB$982:$AB$4224) -> 0 | L44: =C44*K44 -> 0 | N44: =K44/E44 -> 0
B45: P14 | C45: 2 | E45: 120 | K45: =SUMIF(Предзаказ_осень2026!$Q$982:$Q$4224,Калькулятор!B45,Предзаказ_осень2026!$AB$982:$AB$4224) -> 0 | L45: =C45*K45 -> 0 | N45: =K45/E45 -> 0
B46: C1 | C46: 1 | E46: 190 | K46: =SUMIF(Предзаказ_осень2026!$Q$982:$Q$4224,Калькулятор!B46,Предзаказ_осень2026!$AB$982:$AB$4224) -> 0 | L46: =C46*K46 -> 0 | N46: =K46/E46 -> 0
B47: C1,5 | C47: 1.5 | E47: 165 | K47: =SUMIF(Предзаказ_осень2026!$Q$982:$Q$4224,Калькулятор!B47,Предзаказ_осень2026!$AB$982:$AB$4224) -> 0 | L47: =C47*K47 -> 0 | N47: =K47/E47 -> 0
B48: C2 | C48: 2 | E48: 120 | K48: =SUMIF(Предзаказ_осень2026!$Q$982:$Q$4224,Калькулятор!B48,Предзаказ_осень2026!$AB$982:$AB$4224) -> 0 | L48: =C48*K48 -> 0 | N48: =K48/E48 -> 0
B49: C2,5 | C49: 2.5 | K49: =SUMIF(Предзаказ_осень2026!$Q$982:$Q$4224,Калькулятор!B49,Предзаказ_осень2026!$AB$982:$AB$4224) -> 0 | L49: =C49*K49 -> 0
B50: C2 PA | C50: 2.3 | G50: 90 | K50: =SUMIF(Предзаказ_осень2026!$Q$982:$Q$4224,Калькулятор!B50,Предзаказ_осень2026!$AB$982:$AB$4224) -> 0 | L50: =C50*K50 -> 0 | P50: =K50/G50 -> 0
B51: C3 | C51: 3 | E51: 100 | K51: =SUMIF(Предзаказ_осень2026!$Q$982:$Q$4224,Калькулятор!B51,Предзаказ_осень2026!$AB$982:$AB$4224) -> 0 | L51: =C51*K51 -> 0 | N51: =K51/E51 -> 0
B52: C3 PA | C52: 3.3 | G52: 70 | K52: =SUMIF(Предзаказ_осень2026!$Q$982:$Q$4224,Калькулятор!B52,Предзаказ_осень2026!$AB$982:$AB$4224) -> 0 | L52: =C52*K52 -> 0 | P52: =K52/G52 -> 0
B53: C4 | C53: 4 | E53: 40 | K53: =SUMIF(Предзаказ_осень2026!$Q$982:$Q$4224,Калькулятор!B53,Предзаказ_осень2026!$AB$982:$AB$4224) -> 0 | L53: =C53*K53 -> 0 | N53: =K53/E53 -> 0
B54: С4 PA | C54: 4.3 | K54: =SUMIF(Предзаказ_осень2026!$Q$982:$Q$4224,Калькулятор!B54,Предзаказ_осень2026!$AB$982:$AB$4224) -> 0 | L54: =C54*K54 -> 0
B55: C4,5 | C55: 4.5 | K55: =SUMIF(Предзаказ_осень2026!$Q$982:$Q$4224,Калькулятор!B55,Предзаказ_осень2026!$AB$982:$AB$4224) -> 0 | L55: =C55*K55 -> 0
...

Sheet Предзаказ_осень2026
T1: ПРЕДЗАКАЗ_осень 2026 | Y1: Подпишитесь на наши каналы в MAX и Telegram, чтобы всегда быть в курсе последних новостей, предложений и акций:
P3: Адрес склада: Московская область, Каширский район, дер. Барабаново
P4: Выдача заказов: Наличие - ежедневно после согласования с менеджером; Р9 - сентябрь 2026; ОКС и пионы - октябрь-ноябрь 2026; WRB - с 17 августа-ноябрь 2026
P5: * Сроки выкопки и выдачи растений могут измениться в зависимости от погодных условий.
P7: Общий минимальный заказ 35 000 ₽
P9: Минимальный заказ на сорт: для контейнеров MP6 - 6 шт; Р9 - 24 шт; от С1 от 1 шт.
P10: Саженцы с ОКС упакованы по 25 шт. в пучок, 3/х летки по 10 шт. в пучок.
P11: Многолетники с ОКС упаковываны по 25 шт. в перфорированный пакет.
P12: При покупке товаров ОКС - предложим контейнер С3 для пересадки на каждую позицию со скидкой 50%
P13: Р9 упакованы в пластиковые ящики по 24 штуки на сорт. *Тара платная
P14: Минимальный заказ на СОПУТСТВУЮЩИЕ ТОВАРЫ - 10 штук на позицию.
P16: При полной оплате заказа до 25 августа 2026 года предоставляется скидка 5%.
P17: Аванс для бронирования: 50%, оплата перед отгрузкой 50%
... P19: * Цены в прайсе указаны при оплате наличными в кассу. При оплате по безналу выберете в калькуляторе способ оплаты на р/счет.
P21: Перед оформлением заказа, пожалуйста, ознакомьтесь с условиями работы и подтвердите своё согласие с ними: | X21: =SUM(AB28:AB4233) -> 0 | Z21: количество растений
Q22: >>> Условия работы <<< | W22: =IF(X22=0, "", IF(X22<35000, "ОШИБКА!!!", "")) | X22: =SUM(AD28:AD4233) -> 0 | Z22: итоговая сумма за растения | AD22: =IF(X22=0, "", IF(X22<35000, "НЕ СОБЛЮДЕНЫ УСЛОВИЯ минимальной суммы заказа", ""))
T24: с условиями работы ознакомлен | U24: нет | X24: Перейти в калькулятор <<<<<<
E25: АСТ контейнер | G25: АСТ ОКС, Р9 | X25: Опт (50 тыс. ₽ - 200 тыс. ₽) | Z25: Крупный опт (≥200 тыс. ₽) | AC25: =SUM(AC27:AC4233) -> 0
D26: Остатки ОП | E26: Всего | F26: свободно | G26: Всего | H26: свободно | I26: Остатки ВБ | J26: Остатки СЦ | K26: Партнер | M26: Товарная категория | N26: Род, вид на русском | O26: Род, вид на латинском | P26: Сорт | Q26: Упаковка корневой системы | R26: Высота, см | S26: Ширина, см | T26: Высота штамба, см | U26: Примечание | V26: Страна производитель | W26: Минимальный заказ, шт | X26: заказ <20 шт на позицию ОПТ | Y26: заказ ≥20 шт на позицию ОПТ-3% | Z26: заказ <20 шт на позицию ОПТ-9% | AA26: заказ ≥20 шт на позицию ОПТ-15% | AB26: Заказ, шт | AC26: Сумма предварительная | AD26: Общая сумма заказа в рублях | AE26: Подтверждение | AF26: Ассортимент | AG26: Особенности | AH26: Описание
C27: * | M27: ОКС_ Гортензии
C28: 46-38-14791 | G28: 8 | L28: руб | M28: ОКС_ Гортензии | N28: Гортензия древовидная | O28: Hydrangea arborescens | P28: Bounty | Q28: BR 0+1+1 1-2 tak | V28: RUS | W28: 25 | X28: 115 | Y28: 98 | Z28: 98 | AA28: 98 | AC28: =X28*AB28 -> 0 | AD28: =IF(Y28<>"",IF(AND($AC$25>=200000,AB28>=20),AB28*AA28,IF(AND($AC$25>=200000,AB28<20),AB28*Z28,IF(AND($AC$25<200000,AB28>=20),AB28*Y28,AB28*X28))),IF($AC$25>=200000,AB28*Z28,AB28*X28)) -> 0 | AE28: Выдача октябрь-ноябрь 2026 | AI28: =IF(AB28/W28=0,"",IF(MOD(AB28,W28)>0,"ОШИБКА!!! неверная кратность на сорт",""))
G29: 16 | L29: руб | M29: ОКС_ Гортензии | N29: Гортензия древовидная | O29: Hydrangea arborescens | P29: Bounty | Q29: BR 0+1+1 3-4 tak | V29: RUS | W29: 25 | X29: 135 | Y29: 115 | Z29: 115 | AA29: 115 | AC29: =X29*AB29 -> 0 | AD29: =IF(Y29<>"",IF(AND($AC$25>=200000,AB29>=20),AB29*AA29,IF(AND($AC$25>=200000,AB29<20),AB29*Z29,IF(AND($AC$25<200000,AB29>=20),AB29*Y29,AB29*X29))),IF($AC$25>=200000,AB29*Z29,AB29*X29)) -> 0 | AE29: Выдача октябрь-ноябрь 2026 | AI29: =IF(AB29/W29=0,"",IF(MOD(AB29,W29)>0,"ОШИБКА!!! неверная кратность на сорт",""))
G30: 7 | L30: руб | M30: ОКС_ Гортензии | N30: Гортензия древовидная | O30: Hydrangea arborescens | P30: Bounty | Q30: BR 0+1+1 5-6 tak | V30: RUS | W30: 25 | X30: 141 | Y30: 120 | Z30: 120 | AA30: 120 | AC30: =X30*AB30 -> 0 | AD30: =IF(Y30<>"",IF(AND($AC$25>=200000,AB30>=20),AB30*AA30,IF(AND($AC$25>=200000,AB30<20),AB30*Z30,IF(AND($AC$25<200000,AB30>=20),AB30*Y30,AB30*X30))),IF($AC$25>=200000,AB30*Z30,AB30*X30)) -> 0 | AE30: Выдача октябрь-ноябрь 2026 | AI30: =IF(AB30/W30=0,"",IF(MOD(AB30,W30)>0,"ОШИБКА!!! неверная кратность на сорт",""))
C31: 46-38-15989 | G31: 12 | L31: руб | M31: ОКС_ Гортензии | N31: Гортензия древовидная | O31: Hydrangea arborescens | P31: Radiata | Q31: BR 0+1+1 1-2 tak | V31: RUS | W31: 25 | X31: 115 | Y31: 98 | Z31: 98 | AA31: 98 | AC31: =X31*AB31 -> 0 | AD31: =IF(Y31<>"",IF(AND($AC$25>=200000,AB31>=20),AB31*AA31,IF(AND($AC$25>=200000,AB31<20),AB31*Z31,IF(AND($AC$25<200000,AB31>=20),AB31*Y31,AB31*X31))),IF($AC$25>=200000,AB31*Z31,AB31*X31)) -> 0 | AE31: Выдача октябрь-ноябрь 2026 | AI31: =IF(AB31/W31=0,"",IF(MOD(AB31,W31)>0,"ОШИБКА!!! неверная кратность на сорт",""))
G32: 24 | L32: руб | M32: ОКС_ Гортензии | N32: Гортензия древовидная | O32: Hydrangea arborescens | P32: Radiata | Q32: BR 0+1+1 3-4 tak | V32: RUS | W32: 25 | X32: 135 | Y32: 115 | Z32: 115 | AA32: 115 | AC32: =X32*AB32 -> 0 | AD32: =IF(Y32<>"",IF(AND($AC$25>=200000,AB32>=20),AB32*AA32,IF(AND($AC$25>=200000,AB32<20),AB32*Z32,IF(AND($AC$25<200000,AB32>=20),AB32*Y32,AB32*X32))),IF($AC$25>=200000,AB32*Z32,AB32*X32)) -> 0 | AE32: Выдача октябрь-ноябрь 2026 | AI32: =IF(AB32/W32=0,"",IF(MOD(AB32,W32)>0,"ОШИБКА!!! неверная кратность на сорт",""))
G33: 12 | L33: руб | M33: ОКС_ Гортензии | N33: Гортензия древовидная | O33: Hydrangea arborescens | P33: Radiata | Q33: BR 0+1+1 5-6 tak | V33: RUS | W33: 25 | X33: 141 | Y33: 120 | Z33: 120 | AA33: 120 | AC33: =X33*AB33 -> 0 | AD33: =IF(Y33<>"",IF(AND($AC$25>=200000,AB33>=20),AB33*AA33,IF(AND($AC$25>=200000,AB33<20),AB33*Z33,IF(AND($AC$25<200000,AB33>=20),AB33*Y33,AB33*X33))),IF($AC$25>=200000,AB33*Z33,AB33*X33)) -> 0 | AE33: Выдача октябрь-ноябрь 2026 | AI33: =IF(AB33/W33=0,"",IF(MOD(AB33,W33)>0,"ОШИБКА!!! неверная кратность на сорт",""))
C34: 46-38-12821 | G34: 22 | L34: руб | M34: ОКС_ Гортензии | N34: Гортензия метельчатая | O34: Hydrangea paniculata | P34: Big Ben | Q34: BR 0+1+1 1-2 tak | V34: RUS | W34: 25 | X34: 115 | Y34: 98 | Z34: 98 | AA34: 98 | AC34: =X34*AB34 -> 0 | AD34: =IF(Y34<>"",IF(AND($AC$25>=200000,AB34>=20),AB34*AA34,IF(AND($AC$25>=200000,AB34<20),AB34*Z34,IF(AND($AC$25<200000,AB34>=20),AB34*Y34,AB34*X34))),IF($AC$25>=200000,AB34*Z34,AB34*X34)) -> 0 | AE34: Выдача октябрь-ноябрь 2026 | AI34: =IF(AB34/W34=0,"",IF(MOD(AB34,W34)>0,"ОШИБКА!!! неверная кратность на сорт",""))
G35: 45 | L35: руб | M35: ОКС_ Гортензии | N35: Гортензия метельчатая | O35: Hydrangea paniculata | P35: Big Ben | Q35: BR 0+1+1 3-4 tak | V35: RUS | W35: 25 | X35: 135 | Y35: 115 | Z35: 115 | AA35: 115 | AC35: =X35*AB35 -> 0 | AD35: =IF(Y35<>"",IF(AND($AC$25>=200000,AB35>=20),AB35*AA35,IF(AND($AC$25>=200000,AB35<20),AB35*Z35,IF(AND($AC$25<200000,AB35>=20),AB35*Y35,AB35*X35))),IF($AC$25>=200000,AB35*Z35,AB35*X35)) -> 0 | AE35: Выдача октябрь-ноябрь 2026 | AI35: =IF(AB35/W35=0,"",IF(MOD(AB35,W35)>0,"ОШИБКА!!! неверная кратность на сорт",""))
G36: 22 | L36: руб | M36: ОКС_ Гортензии | N36: Гортензия метельчатая | O36: Hydrangea paniculata | P36: Big Ben | Q36: BR 0+1+1 5-6 tak | V36: RUS | W36: 25 | X36: 141 | Y36: 120 | Z36: 120 | AA36: 120 | AC36: =X36*AB36 -> 0 | AD36: =IF(Y36<>"",IF(AND($AC$25>=200000,AB36>=20),AB36*AA36,IF(AND($AC$25>=200000,AB36<20),AB36*Z36,IF(AND($AC$25<200000,AB36>=20),AB36*Y36,AB36*X36))),IF($AC$25>=200000,AB36*Z36,AB36*X36)) -> 0 | AE36: Выдача октябрь-ноябрь 2026 | AI36: =IF(AB36/W36=0,"",IF(MOD(AB36,W36)>0,"ОШИБКА!!! неверная кратность на сорт",""))
C37: 46-38-15988 | G37: 20 | L37: руб | M37: ОКС_ Гортензии | N37: Гортензия метельчатая | O37: Hydrangea paniculata | P37: Bonfire | Q37: BR 0+1+1 1-2 tak | V37: RUS | W37: 25 | X37: 115 | Y37: 98 | Z37: 98 | AA37: 98 | AC37: =X37*AB37 -> 0 | AD37: =IF(Y37<>"",IF(AND($AC$25>=200000,AB37>=20),AB37*AA37,IF(AND($AC$25>=200000,AB37<20),AB37*Z37,IF(AND($AC$25<200000,AB37>=20),AB37*Y37,AB37*X37))),IF($AC$25>=200000,AB37*Z37,AB37*X37)) -> 0 | AE37: Выдача октябрь-ноябрь 2026 | AI37: =IF(AB37/W37=0,"",IF(MOD(AB37,W37)>0,"ОШИБКА!!! неверная кратность на сорт",""))
G38: 40 | L38: руб | M38: ОКС_ Гортензии | N38: Гортензия метельчатая | O38: Hydrangea paniculata | P38: Bonfire | Q38: BR 0+1+1 3-4 tak | V38: RUS | W38: 25 | X38: 135 | Y38: 115 | Z38: 115 | AA38: 115 | AC38: =X38*AB38 -> 0 | AD38: =IF(Y38<>"",IF(AND($AC$25>=200000,AB38>=20),AB38*AA38,IF(AND($AC$25>=200000,AB38<20),AB38*Z38,IF(AND($AC$25<200000,AB38>=20),AB38*Y38,AB38*X38))),IF($AC$25>=200000,AB38*Z38,AB38*X38)) -> 0 | AE38: Выдача октябрь-ноябрь 2026 | AI38: =IF(AB38/W38=0,"",IF(MOD(AB38,W38)>0,"ОШИБКА!!! неверная кратность на сорт",""))
G39: 20 | L39: руб | M39: ОКС_ Гортензии | N39: Гортензия метельчатая | O39: Hydrangea paniculata | P39: Bonfire | Q39: BR 0+1+1 5-6 tak | V39: RUS | W39: 25 | X39: 141 | Y39: 120 | Z39: 120 | AA39: 120 | AC39: =X39*AB39 -> 0 | AD39: =IF(Y39<>"",IF(AND($AC$25>=200000,AB39>=20),AB39*AA39,IF(AND($AC$25>=200000,AB39<20),AB39*Z39,IF(AND($AC$25<200000,AB39>=20),AB39*Y39,AB39*X39))),IF($AC$25>=200000,AB39*Z39,AB39*X39)) -> 0 | AE39: Выдача октябрь-ноябрь 2026 | AI39: =IF(AB39/W39=0,"",IF(MOD(AB39,W39)>0,"ОШИБКА!!! неверная кратность на сорт",""))
C40: 46-38-12825 | G40: 21 | L40: руб | M40: ОКС_ Гортензии | N40: Гортензия метельчатая | O40: Hydrangea paniculata | P40: Dentelle de Gorron | Q40: BR 0+1+1 1-2 tak | V40: RUS | W40: 25 | X40: 115 | Y40: 98 | Z40: 98 | AA40: 98 | AC40: =X40*AB40 -> 0 | AD40: =IF(Y40<>"",IF(AND($AC$25>=200000,AB40>=20),AB40*AA40,IF(AND($AC$25>=200000,AB40<20),AB40*Z40,IF(AND($AC$25<200000,AB40>=20),AB40*Y40,AB40*X40))),IF($AC$25>=200000,AB40*Z40,AB40*X40)) -> 0 | AE40: Выдача октябрь-ноябрь 2026 | AI40: =IF(AB40/W40=0,"",IF(MOD(AB40,W40)>0,"ОШИБКА!!! неверная кратность на сорт",""))
G41: 41 | L41: руб | M41: ОКС_ Гортензии | N41: Гортензия метельчатая | O41: Hydrangea paniculata | P41: Dentelle de Gorron | Q41: BR 0+1+1 3-4 tak | V41: RUS | W41: 25 | X41: 135 | Y41: 115 | Z41: 115 | AA41: 115 | AC41: =X41*AB41 -> 0 | AD41: =IF(Y41<>"",IF(AND($AC$25>=200000,AB41>=20),AB41*AA41,IF(AND($AC$25>=200000,AB41<20),AB41*Z41,IF(AND($AC$25<200000,AB41>=20),AB41*Y41,AB41*X41))),IF($AC$25>=200000,AB41*Z41,AB41*X41)) -> 0 | AE41: Выдача октябрь-ноябрь 2026 | AI41: =IF(AB41/W41=0,"",IF(MOD(AB41,W41)>0,"ОШИБКА!!! неверная кратность на сорт",""))
G42: 20 | L42: руб | M42: ОКС_ Гортензии | N42: Гортензия метельчатая | O42: Hydrangea paniculata | P42: Dentelle de Gorron | Q42: BR 0+1+1 5-6 tak | V42: RUS | W42: 25 | X42: 141 | Y42: 120 | Z42: 120 | AA42: 120 | AC42: =X42*AB42 -> 0 | AD42: =IF(Y42<>"",IF(AND($AC$25>=200000,AB42>=20),AB42*AA42,IF(AND($AC$25>=200000,AB42<20),AB42*Z42,IF(AND($AC$25<200000,AB42>=20),AB42*Y42,AB42*X42))),IF($AC$25>=200000,AB42*Z42,AB42*X42)) -> 0 | AE42: Выдача октябрь-ноябрь 2026 | AI42: =IF(AB42/W42=0,"",IF(MOD(AB42,W42)>0,"ОШИБКА!!! неверная кратность на сорт",""))
C43: 46-38-16491 | G43: 36 | L43: руб | M43: ОКС_ Гортензии | N43: Гортензия метельчатая | O43: Hydrangea paniculata | P43: Dolly | Q43: BR 0+1+1 1-2 tak | V43: RUS | W43: 25 | X43: 115 | Y43: 98 | Z43: 98 | AA43: 98 | AC43: =X43*AB43 -> 0 | AD43: =IF(Y43<>"",IF(AND($AC$25>=200000,AB43>=20),AB43*AA43,IF(AND($AC$25>=200000,AB43<20),AB43*Z43,IF(AND($AC$25<200000,AB43>=20),AB43*Y43,AB43*X43))),IF($AC$25>=200000,AB43*Z43,AB43*X43)) -> 0 | AE43: Выдача октябрь-ноябрь 2026 | AI43: =IF(AB43/W43=0,"",IF(MOD(AB43,W43)>0,"ОШИБКА!!! неверная кратность на сорт",""))
G44: 71 | L44: руб | M44: ОКС_ Гортензии | N44: Гортензия метельчатая | O44: Hydrangea paniculata | P44: Dolly | Q44: BR 0+1+1 3-4 tak | V44: RUS | W44: 25 | X44: 135 | Y44: 115 | Z44: 115 | AA44: 115 | AC44: =X44*AB44 -> 0 | AD44: =IF(Y44<>"",IF(AND($AC$25>=200000,AB44>=20),AB44*AA44,IF(AND($AC$25>=200000,AB44<20),AB44*Z44,IF(AND($AC$25<200000,AB44>=20),AB44*Y44,AB44*X44))),IF($AC$25>=200000,AB44*Z44,AB44*X44)) -> 0 | AE44: Выдача октябрь-ноябрь 2026 | AI44: =IF(AB44/W44=0,"",IF(MOD(AB44,W44)>0,"ОШИБКА!!! неверная кратность на сорт",""))
G45: 36 | L45: руб | M45: ОКС_ Гортензии | N45: Гортензия метельчатая | O45: Hydrangea paniculata | P45: Dolly | Q45: BR 0+1+1 5-6 tak | V45: RUS | W45: 25 | X45: 141 | Y45: 120 | Z45: 120 | AA45: 120 | AC45: =X45*AB45 -> 0 | AD45: =IF(Y45<>"",IF(AND($AC$25>=200000,AB45>=20),AB45*AA45,IF(AND($AC$25>=200000,AB45<20),AB45*Z45,IF(AND($AC$25<200000,AB45>=20),AB45*Y45,AB45*X45))),IF($AC$25>=200000,AB45*Z45,AB45*X45)) -> 0 | AE45: Выдача октябрь-ноябрь 2026 | AI45: =IF(AB45/W45=0,"",IF(MOD(AB45,W45)>0,"ОШИБКА!!! неверная кратность на сорт",""))
C46: 46-38-12829 | G46: 53 | L46: руб | M46: ОКС_ Гортензии | N46: Гортензия метельчатая | O46: Hydrangea paniculata | P46: Early Sensation | Q46: BR 0+1+1 1-2 tak | V46: RUS | W46: 25 | X46: 115 | Y46: 98 | Z46: 98 | AA46: 98 | AC46: =X46*AB46 -> 0 | AD46: =IF(Y46<>"",IF(AND($AC$25>=200000,AB46>=20),AB46*AA46,IF(AND($AC$25>=200000,AB46<20),AB46*Z46,IF(AND($AC$25<200000,AB46>=20),AB46*Y46,AB46*X46))),IF($AC$25>=200000,AB46*Z46,AB46*X46)) -> 0 | AE46: Выдача октябрь-ноябрь 2026 | AI46: =IF(AB46/W46=0,"",IF(MOD(AB46,W46)>0,"ОШИБКА!!! неверная кратность на сорт",""))
C47: 46-38-11632 | G47: 106 | L47: руб | M47: ОКС_ Гортензии | N47: Гортензия метельчатая | O47: Hydrangea paniculata | P47: Early Sensation | Q47: BR 0+1+1 3-4 tak | V47: RUS | W47: 25 | X47: 135 | Y47: 115 | Z47: 115 | AA47: 115 | AC47: =X47*AB47 -> 0 | AD47: =IF(Y47<>"",IF(AND($AC$25>=200000,AB47>=20),AB47*AA47,IF(AND($AC$25>=200000,AB47<20),AB47*Z47,IF(AND($AC$25<200000,AB47>=20),AB47*Y47,AB47*X47))),IF($AC$25>=200000,AB47*Z47,AB47*X47)) -> 0 | AE47: Выдача октябрь-ноябрь 2026 | AI47: =IF(AB47/W47=0,"",IF(MOD(AB47,W47)>0,"ОШИБКА!!! неверная кратность на сорт",""))
...
