Workbook
Name _16_неделя_2021: #REF!
Name _16_неделя_2021: #REF!
Name ALVPRX: #REF!
Name ALVPRX: #REF!
Name art: #REF!
Name art: #REF!
Name ast: #REF!
Name ast: #REF!
Name astkl: #REF!
Name astsk: #REF!
Name astsklad: #REF!
Name bron: #REF!
Name cher: #REF!
Name cheras: #REF!
Name chercher: #REF!
Name cherhug: #REF!
Name cherp: #REF!
Name cherr: #REF!
Name chertab: #REF!
Name CHUR: #REF!
Name COMPALV: #REF!
Name dost: #REF!
Name Excel_BuiltIn_Print_Area_2: #REF!
Name Excel_BuiltIn_Print_Area_2_1: #REF!
Name Excel_BuiltIn_Print_Area_2_1_1: #REF!
Name fff: #REF!
Name ffive: #REF!
Name fin: [1]Лист2!$A$1:$C$339
Name final: [1]Лист2!$A$2:$B$339
Name five: #REF!
Name five: #REF!
Name ger: #REF!
Name ger: #REF!
Name hg: #REF!
Name hg: #REF!
Name hgn: #REF!
Name hoog: #REF!
Name hug: #REF!
Name hugeh: #REF!
Name hugen: #REF!
Name hugenhgn: #REF!
Name hugg: #REF!
Name huggen: #REF!
Name huggg: #REF!
Name huhughug: #REF!
Name HYDNUM: #REF!
Name klast: #REF!
Name klient: #REF!
Name lodold: #REF!
Name neg: #REF!
Name negot: #REF!
Name newheko: '[2]рабочий 2022'!$A$10:$L$1012
Name newhugen: #REF!
Name newhugen: #REF!
Name nid: #REF!
Name nid: #REF!
Name nl: #REF!
Name nl: #REF!
Name nlkl: #REF!
Name notready: #REF!

Sheet Условия работы
B13: ✓ | C13: Для оформления договорных документов:
B14: Индивидуальным предпринимателям: | H14: Юридическим лицам:
C15: ● Копию свидетельства ЕГРИП | H15: ● | I15: Копию Устава
C16: ● Копию ИНН | H16: ● | I16: Копию выписки из ЕГРЮЛ
C17: ● Копию паспорта | H17: ● | I17: Копию уведомления УСН или ЕНВД
C18: ● Копию уведомления УСН или ЕНВД | H18: ● | I18: Карточку с реквизитами предприятия
B20: ✓ | C20: Для обеспечения высокого сервиса обслуживания и правильного понимания Ваших потребностей:
C21: ● Заполненную Анкету клиента (шаблон необходимо запросить у Вашего менеджера)
B26: ✓ | C26: Заказ должен быть заполнен в форме настоящего Прайс-листа и:
C27: ● Соответствовать его требованиям к общему минимальному заказу
C28: ● Соответствовать его требованиям к минимальному заказу / кратности на сорт
B29: ✓ | C29: Бронирование заказа осуществляется исключительно после внесения аванса для бронирования
B30: ✓ | C30: Бронирование и предварительные подтверждения по заказам предоставляются до момента выпуска Производителем готовой продукции на основании его прогнозных данных. В процессе производства эти данные могут неоднократно изменяться по независящим от Производителя причинам (пример: погодные катаклизмы)
C31: ● Исходя из этой информации Вам необходимо принять решение о сроках размещения заказа:
C32: - разместить заказ заранее и иметь возможность бронирования максимально широкого ассортимента продукции, но быть готовым к тому, что информация о первоначальном подтверждении по заказу может меняться
C33: - разместить заказ ближе к дате отгрузки из доступного на тот момент стока (как правило, небольшого по ассортименту), но сразу получить более стабильное подтверждение
B34: ✓ | C34: В связи с динамично меняющимися свободными остатками часть заказа или заказ полностью могут быть не подтверждены
C35: ● Чем больше времени проходит с момента выставления счета на оплату до момента поступления оплаты на наш р/счет, тем выше вероятность неподтверждений
C36: ● В случае неподтверждения заказа мы возвращаем аванс, либо, при Вашем согласии, взамен неподтвержденных сортов предлагаем замены
B37: ✓ | C37: После внесения аванса для бронирования, частичный или полный отказ от заказа по Вашей инициативе не возможны.
B41: ✓ | C41: На протяжения всего периода работы мы будем информировать Вас обо всех изменениях, связанных с исполнением заказа
B42: ✓ | C42: Вам необходимо своевременно и в полном объеме производить все оплаты по заказу
C43: ● В случае нарушения сроков оплаты по заказу, предусмотренных условиями Прайс-листа, мы оставляем за собой право аннулировать Ваш заказ и направить товар в свободную продажу. Возврат внесенных по заказу авансов будет произведен в течение 10 дней после полной реализации заказа за минусом понесенных нами затрат на доставку, сборку, хранение и прочих
B44: ✓ | C44: Мы уведомим Вас о дате готовности Товара к отгрузке
C45: ● Вам будет необходимо осуществить приемку Товара оговоренным способом в срок, не превышающий 3-х рабочих дней с момента уведомления.
B46: ✓ | C46: Товары отгружаются с нашего склада на условиях самовывоза или путем организации доставки нашими силами, но за Ваш счет
C47: ● Во избежание длительного ожидания получения заказа в очереди, отгрузка товаров с нашего склада производится на основании Графика отгрузки
C48: ● Включение заказа в график отгрузки производится после полной его оплаты и, в случае необходимости доставки заказа до терминала транспортной компании, после предоставления Вами Доверенности на право передачи заказа в транспортную компанию.
C49: ● График отгрузки утверждается не позднее 14:00 дня предшествующего отгрузке. Поэтому при оплате заказа или предоставлении доверенности после 14:00 заказ может быть включен в График отгрузки не ранее, чем через один рабочий день.
B50: ✓ | C50: Мы не несем ответственности за частичную недопоставку заказа, вызванную неурожаем, либо гибелью растений по причине рисков хранения у Производителя, а также рисков связанных с изъятием сотрудниками таможни образцов товара для взятия проб в целях фитосанитарного контроля
B52: ✓ | C52: Во время выкопки выдача растений осуществляется не раннее 6-12 дней после оплаты заказа.
B53: ✓ | C53: Сроки выкопки и выдачи растений могут изменяться в зависимости от погодных условий.
B57: ✓ | C57: Мы предоставляем услуги по доставке заказов:
C58: ● До адреса Покупателя (По Москве и МО)
C59: ● До терминала любой транспортной компании в г. Москве
B60: ✓ | C60: Вы самостоятельно выбираете транспортную компанию, определяете условия доставки заказа транспортной компанией в пункт назначения и направляете нам четкое задание на передачу груза в форме Доверенности
C61: ● Мы осуществляем передачу товара в транспортную компанию строго в соответствии с требованиями, указанными Вами в бланке доверенности
C62: ● Право собственности на Товар и риск случайной гибели переходят к Вам с момента передачи нами Товара в транспортную компанию
C63: ● Мы не несем ответственности за потерю качества товара в период его доставки транспортной компанией
B68: ✓ | C68: Если мы передаем Товар, собранный в закрытую тару (в упаковке Производителя) или Вы физически не имеете возможности произвести детальную приемку Товара при его отгрузке, то имеете право в течение 3-х рабочих дней с момента получения Товара, сообщить нам об обнаруженных недостатках путем предъявления претензии
...

Sheet Калькулятор
B2: =Предзаказ_осень2026!U15 -> 0 | C2: шт, количество растений | J2: Дорогие партнеры, мы делаем всё возможное, чтобы как можно лучше обеспечить вас качественным посадочным материалом. И хотим честно вас предупредить, что при сильном изменении ситуации на рынке и в мире, которые могут повлечь за собой удорожание стоимости Транспортной перевозки и/или КДП, мы оставляем за собой право пересмотреть цены и условия по настоящему предложению в любое время до момента передачи вам товара.
B3: =Предзаказ_осень2026!U16 -> 0 | C3: итоговая сумма за растения
B4: Не выбрано! | C4: ← Выберите период поставки
B5: на р/счет | C5: ← Выберите способ оплаты
B6: =IF(B5="в кассу",0%,IF(B5="на р/счет",15%,"выберите способ оплаты!")) -> 0.15 | C6: Комиссия за ден. переводы (КДП)
B8: Растения
B9: =SUM(Предзаказ_осень2026!Y199:Y764) -> 0 | C9: Количество растений | J9: Стоимость товара иностранного производства, тары, услуги доставки, комиссии за денежный перевод на момент размещения заказа являются ориентировочными/приблизительными. Конечную стоимость Вашего заказа с деталями дополнительных услуг вы сможете расчитать вместе с нашим менеджером.
B10: =B3 -> 0 | C10: Предварительная сумма за растения без КДП | G10: =B3 -> 0
B11: =IF(B6="выберите способ оплаты!","выберите способ оплаты!",B6*G10) -> 0 | C11: Сумма КДП на растения | G11: =IF(B6="выберите способ оплаты!"," - ₽",B6*G10) -> 0
B12: =IF(B6="выберите способ оплаты!","выберите способ оплаты!",B11+B10) -> 0 | C12: Итоговая сумма за растения с КДП | G12: =IF(B6="выберите способ оплаты!"," - ₽",G11+G10) -> 0
B14: ДОРОГОЙ КЛИЕНТ!
B15: Для Вашего удобства мы разрабатываем максимально подробный и прозрачный формат расчета вместимости в тару и доставки.
B16: Просим Вас отнестись с понимание и участием.
B17: Компания Садовая палитра будет Вам благодарна за комментарии и советы по улучшению качества обслуживания!
B19: Доп. услуги (в разработке) | C19: =IF(AND(OR(B20="Навалом",B20="Не выбрано!"),OR(B21="Самовывоз",B21="Не выбрано!")),"",IF(COUNTIF(R74:R82,"В заказе присутствуют крупногабартиные растения, требуется корректировка расчета нашим логистом!")>0,"В заказе присутствуют крупногабартиные растения, требуется корректировка расчета нашим логистом!",""))
B20: Не выбрано! | C20: ← Выберите способ отгрузки растений | K20: *Тара платная, выберете в калькуляторе способ отгрузки Ваших растений: навалом или в тару.
B21: Не выбрано! | C21: ← Выберите способ доставки | E21: *Навалом в транспортную компанию НЕ отгружаем! | K21: Если Ваш груз упакован в разную тару - Вас ждет индивидуальный расчет упаковки растений.
C22: =IF(B21="Доставка до клиента","← Введите расстояние до вас в км",IF(AND(B21="Доставка до ТК",B20="Навалом"),"Отгрузка навалом в ТК невозможна! Выберите другой способ!","")) | K22: *Доставка платная до ближайшего к нашему складу терминала ТК: ПЭК, ЖелДорЭкспедиция, Вера-1.
B23: =IF(B20="Навалом",0,IF(B20="В таре",R85,0)) -> 0 | C23: Предварительная сумма за тару без КДП | K23: Стандартная стоимость доставки до ТК 3000 рублей за 5 и более ПМ.
B24: =IF(B21="Самовывоз",0,IF(B21="Доставка до ТК",IF(B6="выберите способ оплаты!","выберите способ оплаты!",IF(B20<>"Навалом",ROUNDUP(R86,0)*3000,"выберите отгрузку в таре!")),IF(B21="Доставка до клиента",IF(B22="","введите расстояние!",R87),0))) -> 0 | C24: Предварительная сумма за доставку без КДП | K24: Если в заказе менее 5 ПМ - расчет стоимости доставки индивидуальный.
B25: =IF(B6="выберите способ оплаты!","выберите способ оплаты!",B23+B23*B6) -> 0 | C25: Итоговая сумма за тару с КДП (ориентировочно) | K25: *Доставка платная до Вашего адреса.
B26: =IF(B6="выберите способ оплаты!","выберите способ оплаты!",IF(B24="выберите отгрузку в таре!","выберите отгрузку в таре!",IF(B24="введите расстояние!","введите расстояние!",B24+B24*B6))) -> 0 | C26: Итоговая сумма за доставку с КДП (ориентировочно)
B29: =IFERROR(B12+B25+B26,"заполните все параметры") -> 0 | C29: Сумма к оплате (ориентировочно) | G29: *Итоговую сумму заказа составляют: стоимость растений+стоимость тары+стоимость доставки+комиссия за ден переводы.
B38: СПРАВОЧНАЯ вместимость в тару, шт | D38: Точный расчет количества и стоимости тары - после формирования Вашего заказа. | K38: СПРАВОЧНЫЙ расчет объёма заказа | O38: Точный расчет объема - после формирования Вашего заказа.
B40: Контейнер/Тара | D40: Ящик пластиковый 60*40*22 40шт на ПМ | E40: Ящик деревянный 100*120*100 2шт на ПМ | F40: Кольцо 100*120*40 | G40: Поддон 100*120*12 | H40: Бокс для выкопки нестандарт (до 140+) до ТК | I40: Крышка для Ящика деревянного 100*120*2 | K40: Кол-во растений в заказе, шт | L40: Предварительный вес заказа, кг | M40: Ящик пластиковый 60*40*30 40 штук на ПМ | N40: Ящик деревянный 100*120*100 1/2 ПМ | O40: Кольцо 100*120*40 1 шт на 1ПМ (не ТК, клиенту в фуру) | P40: Поддон 100*120*20 | Q40: Бокс для выкопки нестандарт (до 140+) до ТК | R40: ИТОГО
B41: Цена за тару | C41: Вес растения | D41: 350 | E41: 3900 | F41: 1600 | G41: 400 | H41: 5500 | I41: 400
B42: P7 | C42: 0.5 | D42: 40 | E42: 1500 справочно | F42: 700 справочно | K42: =SUMIF(Предзаказ_осень2026!#REF!,Калькулятор!B42,Предзаказ_осень2026!#REF!) -> #REF! | L42: =C42*K42 -> #REF! | M42: =K42/D42 -> #REF!
B43: P9 | C43: 0.55 | D43: 24 | E43: 1000 справочно | F43: 400 справочно | K43: =SUMIF(Предзаказ_осень2026!#REF!,Калькулятор!B43,Предзаказ_осень2026!#REF!) -> #REF! | L43: =C43*K43 -> #REF! | M43: =K43/D43 -> #REF!
B44: P13 | C44: 1 | E44: 190 | K44: =SUMIF(Предзаказ_осень2026!#REF!,Калькулятор!B44,Предзаказ_осень2026!#REF!) -> #REF! | L44: =C44*K44 -> #REF! | N44: =K44/E44 -> #REF!
B45: P14 | C45: 2 | E45: 120 | K45: =SUMIF(Предзаказ_осень2026!#REF!,Калькулятор!B45,Предзаказ_осень2026!#REF!) -> #REF! | L45: =C45*K45 -> #REF! | N45: =K45/E45 -> #REF!
B46: C1 | C46: 1 | E46: 190 | K46: =SUMIF(Предзаказ_осень2026!#REF!,Калькулятор!B46,Предзаказ_осень2026!#REF!) -> #REF! | L46: =C46*K46 -> #REF! | N46: =K46/E46 -> #REF!
B47: C1,5 | C47: 1.5 | E47: 165 | K47: =SUMIF(Предзаказ_осень2026!#REF!,Калькулятор!B47,Предзаказ_осень2026!#REF!) -> #REF! | L47: =C47*K47 -> #REF! | N47: =K47/E47 -> #REF!
B48: C2 | C48: 2 | E48: 120 | K48: =SUMIF(Предзаказ_осень2026!#REF!,Калькулятор!B48,Предзаказ_осень2026!#REF!) -> #REF! | L48: =C48*K48 -> #REF! | N48: =K48/E48 -> #REF!
B49: C2,5 | C49: 2.5 | K49: =SUMIF(Предзаказ_осень2026!#REF!,Калькулятор!B49,Предзаказ_осень2026!#REF!) -> #REF! | L49: =C49*K49 -> #REF!
B50: C2 PA | C50: 2.3 | G50: 90 | K50: =SUMIF(Предзаказ_осень2026!#REF!,Калькулятор!B50,Предзаказ_осень2026!#REF!) -> #REF! | L50: =C50*K50 -> #REF! | P50: =K50/G50 -> #REF!
B51: C3 | C51: 3 | E51: 100 | K51: =SUMIF(Предзаказ_осень2026!#REF!,Калькулятор!B51,Предзаказ_осень2026!#REF!) -> #REF! | L51: =C51*K51 -> #REF! | N51: =K51/E51 -> #REF!
B52: C3 PA | C52: 3.3 | G52: 70 | K52: =SUMIF(Предзаказ_осень2026!#REF!,Калькулятор!B52,Предзаказ_осень2026!#REF!) -> #REF! | L52: =C52*K52 -> #REF! | P52: =K52/G52 -> #REF!
B53: C4 | C53: 4 | E53: 40 | K53: =SUMIF(Предзаказ_осень2026!#REF!,Калькулятор!B53,Предзаказ_осень2026!#REF!) -> #REF! | L53: =C53*K53 -> #REF! | N53: =K53/E53 -> #REF!
B54: С4 PA | C54: 4.3 | K54: =SUMIF(Предзаказ_осень2026!#REF!,Калькулятор!B54,Предзаказ_осень2026!#REF!) -> #REF! | L54: =C54*K54 -> #REF!
B55: C4,5 | C55: 4.5 | K55: =SUMIF(Предзаказ_осень2026!#REF!,Калькулятор!B55,Предзаказ_осень2026!#REF!) -> #REF! | L55: =C55*K55 -> #REF!
...

Sheet Предзаказ_осень2026
Q1: Предложение Выкопка_осень 2026 | V1: Подпишитесь на наши каналы в MAX и Telegram, чтобы всегда быть в курсе последних новостей, предложений и акций:
M3: Адрес склада: Московская область, Каширский район, дер. Барабаново
M4: Выдача заказов: WRB - с 17 августа-ноябрь 2026
M5: * Сроки выкопки и выдачи растений могут измениться в зависимости от погодных условий.
M7: Общий минимальный заказ 35 000 ₽
M10: При полной оплате заказа до 25 августа 2026 года предоставляется скидка 5%.
M11: Аванс для бронирования: 50%, оплата перед отгрузкой 50%
M12: Оплата в рублях.
M13: * Цены в прайсе указаны при оплате наличными в кассу. При оплате по безналу выберете в калькуляторе способ оплаты на р/счет.
M15: Перед оформлением заказа, пожалуйста, ознакомьтесь с условиями работы и подтвердите своё согласие с ними: | U15: =SUM(Y21:Y203) -> 0 | W15: количество растений
N16: >>> Условия работы <<< | T16: =IF(U16=0, "", IF(U16<35000, "ОШИБКА!!!", "")) | U16: =SUM(AA21:AA203) -> 0 | W16: итоговая сумма за растения | AA16: =IF(U16=0, "", IF(U16<35000, "НЕ СОБЛЮДЕНЫ УСЛОВИЯ минимальной суммы заказа", ""))
Q18: с условиями работы ознакомлен | R18: нет | U18: Перейти в калькулятор <<<<<<
E19: АСТ контейнер | U19: Опт (50 тыс. ₽ - 200 тыс. ₽) | W19: Крупный опт (≥200 тыс. ₽) | Z19: =SUM(Z21:Z203) -> 0
D20: Остатки ОП | E20: Всего | F20: свободно | G20: Остатки СЦ | H20: Партнер | J20: Товарная категория | K20: Род, вид на русском | L20: Род, вид на латинском | M20: Сорт | N20: Упаковка корневой системы | O20: Высота, см | P20: Ширина, см | Q20: Высота штамба, см | R20: Примечание | S20: Страна производитель | T20: Минимальный заказ, шт | U20: заказ <20 шт на позицию ОПТ | V20: заказ ≥20 шт на позицию ОПТ-3% | W20: заказ <20 шт на позицию ОПТ-9% | X20: заказ ≥20 шт на позицию ОПТ-15% | Y20: Заказ, шт | Z20: Сумма предварительная | AA20: Общая сумма заказа в рублях | AB20: Подтверждение | AC20: Ассортимент | AD20: Особенности | AE20: Описание
C21: * | J21: WRB_Выкопка
C22: 46-38-16559 | H22: 3 | I22: руб | J22: WRB_Лиственные деревья | K22: Ива ломкая шаровидная | L22: Salix fragilis | M22: Globosa | N22: WRB | O22: 100-120 | S22: RUS | T22: 1 | U22: 4125 | V22: 4000 | W22: 3750 | X22: 3525 | Z22: =U22*Y22 -> 0 | AA22: =IF(V22<>"",IF(AND($Z$19>=200000,Y22>=20),Y22*X22,IF(AND($Z$19>=200000,Y22<20),Y22*W22,IF(AND($Z$19<200000,Y22>=20),Y22*V22,Y22*U22))),IF($Z$19>=200000,Y22*W22,Y22*U22)) -> 0 | AF22: =IF(Y22/T22=0,"",IF(MOD(Y22,T22)>0,"ОШИБКА!!! неверная кратность на сорт",""))
C23: 46-38-16560 | H23: 4 | I23: руб | J23: WRB_Лиственные деревья | K23: Ива ломкая шаровидная | L23: Salix fragilis | M23: Globosa | N23: WRB | O23: 120-140 | S23: RUS | T23: 1 | U23: 4917 | V23: 4768 | W23: 4470 | X23: 4202 | Z23: =U23*Y23 -> 0 | AA23: =IF(V23<>"",IF(AND($Z$19>=200000,Y23>=20),Y23*X23,IF(AND($Z$19>=200000,Y23<20),Y23*W23,IF(AND($Z$19<200000,Y23>=20),Y23*V23,Y23*U23))),IF($Z$19>=200000,Y23*W23,Y23*U23)) -> 0 | AF23: =IF(Y23/T23=0,"",IF(MOD(Y23,T23)>0,"ОШИБКА!!! неверная кратность на сорт",""))
C24: 46-38-16561 | H24: 9 | I24: руб | J24: WRB_Лиственные деревья | K24: Ива ломкая шаровидная | L24: Salix fragilis | M24: Globosa | N24: WRB | O24: 140-160 | S24: RUS | T24: 1 | U24: 5445 | V24: 5280 | W24: 4950 | X24: 4653 | Z24: =U24*Y24 -> 0 | AA24: =IF(V24<>"",IF(AND($Z$19>=200000,Y24>=20),Y24*X24,IF(AND($Z$19>=200000,Y24<20),Y24*W24,IF(AND($Z$19<200000,Y24>=20),Y24*V24,Y24*U24))),IF($Z$19>=200000,Y24*W24,Y24*U24)) -> 0 | AF24: =IF(Y24/T24=0,"",IF(MOD(Y24,T24)>0,"ОШИБКА!!! неверная кратность на сорт",""))
C25: 46-38-16562 | H25: 17 | I25: руб | J25: WRB_Лиственные деревья | K25: Ива ломкая шаровидная | L25: Salix fragilis | M25: Globosa | N25: WRB | O25: 160-180 | S25: RUS | T25: 1 | U25: 6319 | V25: 6128 | W25: 5745 | X25: 5400 | Z25: =U25*Y25 -> 0 | AA25: =IF(V25<>"",IF(AND($Z$19>=200000,Y25>=20),Y25*X25,IF(AND($Z$19>=200000,Y25<20),Y25*W25,IF(AND($Z$19<200000,Y25>=20),Y25*V25,Y25*U25))),IF($Z$19>=200000,Y25*W25,Y25*U25)) -> 0 | AF25: =IF(Y25/T25=0,"",IF(MOD(Y25,T25)>0,"ОШИБКА!!! неверная кратность на сорт",""))
C26: 46-38-16563 | H26: 33 | I26: руб | J26: WRB_Лиственные деревья | K26: Ива ломкая шаровидная | L26: Salix fragilis | M26: Globosa | N26: WRB | O26: 180-200 | S26: RUS | T26: 1 | U26: 6848 | V26: 6640 | W26: 6225 | X26: 5852 | Z26: =U26*Y26 -> 0 | AA26: =IF(V26<>"",IF(AND($Z$19>=200000,Y26>=20),Y26*X26,IF(AND($Z$19>=200000,Y26<20),Y26*W26,IF(AND($Z$19<200000,Y26>=20),Y26*V26,Y26*U26))),IF($Z$19>=200000,Y26*W26,Y26*U26)) -> 0 | AF26: =IF(Y26/T26=0,"",IF(MOD(Y26,T26)>0,"ОШИБКА!!! неверная кратность на сорт",""))
C27: 46-38-16564 | H27: 49 | I27: руб | J27: WRB_Лиственные деревья | K27: Ива ломкая шаровидная | L27: Salix fragilis | M27: Globosa | N27: WRB | O27: 200-220 | S27: RUS | T27: 1 | U27: 7574 | V27: 7344 | W27: 6885 | X27: 6472 | Z27: =U27*Y27 -> 0 | AA27: =IF(V27<>"",IF(AND($Z$19>=200000,Y27>=20),Y27*X27,IF(AND($Z$19>=200000,Y27<20),Y27*W27,IF(AND($Z$19<200000,Y27>=20),Y27*V27,Y27*U27))),IF($Z$19>=200000,Y27*W27,Y27*U27)) -> 0 | AF27: =IF(Y27/T27=0,"",IF(MOD(Y27,T27)>0,"ОШИБКА!!! неверная кратность на сорт",""))
C28: 46-38-16565 | H28: 38 | I28: руб | J28: WRB_Лиственные деревья | K28: Ива ломкая шаровидная | L28: Salix fragilis | M28: Globosa | N28: WRB | O28: 220-240 | S28: RUS | T28: 1 | U28: 8399 | V28: 8144 | W28: 7635 | X28: 7177 | Z28: =U28*Y28 -> 0 | AA28: =IF(V28<>"",IF(AND($Z$19>=200000,Y28>=20),Y28*X28,IF(AND($Z$19>=200000,Y28<20),Y28*W28,IF(AND($Z$19<200000,Y28>=20),Y28*V28,Y28*U28))),IF($Z$19>=200000,Y28*W28,Y28*U28)) -> 0 | AF28: =IF(Y28/T28=0,"",IF(MOD(Y28,T28)>0,"ОШИБКА!!! неверная кратность на сорт",""))
C29: 46-38-9965 | I29: руб | J29: WRB_Лиственные деревья | K29: Рябина обыкновенная | L29: Sorbus aucuparia | N29: WRB | O29: 500+ | S29: RUS | T29: 1 | U29: 4125 | V29: 4000 | W29: 3750 | X29: 3525 | Z29: =U29*Y29 -> 0 | AA29: =IF(V29<>"",IF(AND($Z$19>=200000,Y29>=20),Y29*X29,IF(AND($Z$19>=200000,Y29<20),Y29*W29,IF(AND($Z$19<200000,Y29>=20),Y29*V29,Y29*U29))),IF($Z$19>=200000,Y29*W29,Y29*U29)) -> 0 | AB29: ПРОДАНО | AF29: =IF(Y29/T29=0,"",IF(MOD(Y29,T29)>0,"ОШИБКА!!! неверная кратность на сорт",""))
C30: 46-38-14517 | I30: руб | J30: WRB_Лиственные деревья | K30: Черемуха виргинская | L30: Prunus virginiana | M30: Shubert | N30: WRB | O30: 180-200 | S30: RUS | T30: 1 | U30: 5940 | V30: 5760 | W30: 5400 | X30: 5076 | Z30: =U30*Y30 -> 0 | AA30: =IF(V30<>"",IF(AND($Z$19>=200000,Y30>=20),Y30*X30,IF(AND($Z$19>=200000,Y30<20),Y30*W30,IF(AND($Z$19<200000,Y30>=20),Y30*V30,Y30*U30))),IF($Z$19>=200000,Y30*W30,Y30*U30)) -> 0 | AB30: ПРОДАНО | AF30: =IF(Y30/T30=0,"",IF(MOD(Y30,T30)>0,"ОШИБКА!!! неверная кратность на сорт",""))
C31: 46-38-16094 | I31: руб | J31: WRB_Лиственные деревья | K31: Черемуха виргинская | L31: Prunus virginiana | M31: Shubert | N31: WRB | O31: 220-240 | S31: RUS | T31: 1 | U31: 6930 | V31: 6720 | W31: 6300 | X31: 5922 | Z31: =U31*Y31 -> 0 | AA31: =IF(V31<>"",IF(AND($Z$19>=200000,Y31>=20),Y31*X31,IF(AND($Z$19>=200000,Y31<20),Y31*W31,IF(AND($Z$19<200000,Y31>=20),Y31*V31,Y31*U31))),IF($Z$19>=200000,Y31*W31,Y31*U31)) -> 0 | AB31: ПРОДАНО | AF31: =IF(Y31/T31=0,"",IF(MOD(Y31,T31)>0,"ОШИБКА!!! неверная кратность на сорт",""))
C32: 46-38-11806 | H32: 18 | I32: руб | J32: WRB_Лиственные деревья | K32: Черемуха виргинская | L32: Prunus virginiana | M32: Shubert | N32: WRB | O32: 250-300 | S32: RUS | T32: 1 | U32: 7920 | V32: 7680 | W32: 7200 | X32: 6768 | Z32: =U32*Y32 -> 0 | AA32: =IF(V32<>"",IF(AND($Z$19>=200000,Y32>=20),Y32*X32,IF(AND($Z$19>=200000,Y32<20),Y32*W32,IF(AND($Z$19<200000,Y32>=20),Y32*V32,Y32*U32))),IF($Z$19>=200000,Y32*W32,Y32*U32)) -> 0 | AF32: =IF(Y32/T32=0,"",IF(MOD(Y32,T32)>0,"ОШИБКА!!! неверная кратность на сорт",""))
C33: 46-38-11808 | H33: 13 | I33: руб | J33: WRB_Лиственные деревья | K33: Яблоня | L33: Malus | M33: Недзвецкого | N33: WRB | O33: 250-300 | S33: RUS | T33: 1 | U33: 15840 | V33: 15360 | W33: 14400 | X33: 13536 | Z33: =U33*Y33 -> 0 | AA33: =IF(V33<>"",IF(AND($Z$19>=200000,Y33>=20),Y33*X33,IF(AND($Z$19>=200000,Y33<20),Y33*W33,IF(AND($Z$19<200000,Y33>=20),Y33*V33,Y33*U33))),IF($Z$19>=200000,Y33*W33,Y33*U33)) -> 0 | AF33: =IF(Y33/T33=0,"",IF(MOD(Y33,T33)>0,"ОШИБКА!!! неверная кратность на сорт",""))
C34: 46-38-3022 | D34: 1 | G34: 0 | H34: 8 | I34: руб | J34: WRB_Хвойные | K34: Ель колючая | L34: Picea pungens | M34: Glauca | N34: WRB | O34: 100-120 | S34: RUS | T34: 1 | U34: 4446 | V34: 4311 | W34: 4041 | X34: 3799 | Z34: =U34*Y34 -> 0 | AA34: =IF(V34<>"",IF(AND($Z$19>=200000,Y34>=20),Y34*X34,IF(AND($Z$19>=200000,Y34<20),Y34*W34,IF(AND($Z$19<200000,Y34>=20),Y34*V34,Y34*U34))),IF($Z$19>=200000,Y34*W34,Y34*U34)) -> 0 | AF34: =IF(Y34/T34=0,"",IF(MOD(Y34,T34)>0,"ОШИБКА!!! неверная кратность на сорт",""))
C35: 46-38-4329 | D35: 4 | G35: 2 | H35: 3 | I35: руб | J35: WRB_Хвойные | K35: Ель колючая | L35: Picea pungens | M35: Glauca | N35: WRB | O35: 120-140 | S35: RUS | T35: 1 | U35: 4842 | V35: 4695 | W35: 4401 | X35: 4137 | Z35: =U35*Y35 -> 0 | AA35: =IF(V35<>"",IF(AND($Z$19>=200000,Y35>=20),Y35*X35,IF(AND($Z$19>=200000,Y35<20),Y35*W35,IF(AND($Z$19<200000,Y35>=20),Y35*V35,Y35*U35))),IF($Z$19>=200000,Y35*W35,Y35*U35)) -> 0 | AF35: =IF(Y35/T35=0,"",IF(MOD(Y35,T35)>0,"ОШИБКА!!! неверная кратность на сорт",""))
C36: 46-38-2132 | H36: 5 | I36: руб | J36: WRB_Хвойные | K36: Ель колючая | L36: Picea pungens | M36: Glauca | N36: WRB | O36: 140-160 | S36: RUS | T36: 1 | U36: 5247 | V36: 5088 | W36: 4770 | X36: 4484 | Z36: =U36*Y36 -> 0 | AA36: =IF(V36<>"",IF(AND($Z$19>=200000,Y36>=20),Y36*X36,IF(AND($Z$19>=200000,Y36<20),Y36*W36,IF(AND($Z$19<200000,Y36>=20),Y36*V36,Y36*U36))),IF($Z$19>=200000,Y36*W36,Y36*U36)) -> 0 | AF36: =IF(Y36/T36=0,"",IF(MOD(Y36,T36)>0,"ОШИБКА!!! неверная кратность на сорт",""))
C37: 46-38-16530 | H37: 13 | I37: руб | J37: WRB_Хвойные | K37: Ель колючая | L37: Picea pungens | M37: Glauca Globosa=Globosa | N37: WRB | O37: 30-40 | S37: RUS | T37: 1 | U37: 6584 | V37: 6384 | W37: 5985 | X37: 5626 | Z37: =U37*Y37 -> 0 | AA37: =IF(V37<>"",IF(AND($Z$19>=200000,Y37>=20),Y37*X37,IF(AND($Z$19>=200000,Y37<20),Y37*W37,IF(AND($Z$19<200000,Y37>=20),Y37*V37,Y37*U37))),IF($Z$19>=200000,Y37*W37,Y37*U37)) -> 0
C38: 46-38-14505 | D38: 0 | G38: 5 | H38: 93 | I38: руб | J38: WRB_Хвойные | K38: Ель колючая | L38: Picea pungens | M38: Glauca Globosa=Globosa | N38: WRB | O38: 40-60 | S38: RUS | T38: 1 | U38: 7574 | V38: 7344 | W38: 6885 | X38: 6472 | Z38: =U38*Y38 -> 0 | AA38: =IF(V38<>"",IF(AND($Z$19>=200000,Y38>=20),Y38*X38,IF(AND($Z$19>=200000,Y38<20),Y38*W38,IF(AND($Z$19<200000,Y38>=20),Y38*V38,Y38*U38))),IF($Z$19>=200000,Y38*W38,Y38*U38)) -> 0 | AF38: =IF(Y38/T38=0,"",IF(MOD(Y38,T38)>0,"ОШИБКА!!! неверная кратность на сорт",""))
C39: 46-38-15971 | D39: 8 | G39: 0 | H39: 137 | I39: руб | J39: WRB_Хвойные | K39: Ель колючая | L39: Picea pungens | M39: Glauca Globosa=Globosa | N39: WRB | O39: 60-80 | S39: RUS | T39: 1 | U39: 11361 | V39: 11016 | W39: 10328 | X39: 9708 | Z39: =U39*Y39 -> 0 | AA39: =IF(V39<>"",IF(AND($Z$19>=200000,Y39>=20),Y39*X39,IF(AND($Z$19>=200000,Y39<20),Y39*W39,IF(AND($Z$19<200000,Y39>=20),Y39*V39,Y39*U39))),IF($Z$19>=200000,Y39*W39,Y39*U39)) -> 0 | AF39: =IF(Y39/T39=0,"",IF(MOD(Y39,T39)>0,"ОШИБКА!!! неверная кратность на сорт",""))
C40: 46-38-15972 | H40: 13 | I40: руб | J40: WRB_Хвойные | K40: Ель колючая | L40: Picea pungens | M40: Glauca Globosa=Globosa | N40: WRB | O40: 80-100 | S40: RUS | T40: 1 | U40: 19800 | V40: 19200 | W40: 18000 | X40: 16920 | Z40: =U40*Y40 -> 0 | AA40: =IF(V40<>"",IF(AND($Z$19>=200000,Y40>=20),Y40*X40,IF(AND($Z$19>=200000,Y40<20),Y40*W40,IF(AND($Z$19<200000,Y40>=20),Y40*V40,Y40*U40))),IF($Z$19>=200000,Y40*W40,Y40*U40)) -> 0 | AF40: =IF(Y40/T40=0,"",IF(MOD(Y40,T40)>0,"ОШИБКА!!! неверная кратность на сорт",""))
C41: 46-38-15979 | H41: 3 | I41: руб | J41: WRB_Хвойные | K41: Ель колючая | L41: Picea pungens | M41: Ohlendorffii | N41: WRB | O41: 30-40 | S41: RUS | T41: 1 | U41: 4446 | V41: 4311 | W41: 4041 | X41: 3799 | Z41: =U41*Y41 -> 0 | AA41: =IF(V41<>"",IF(AND($Z$19>=200000,Y41>=20),Y41*X41,IF(AND($Z$19>=200000,Y41<20),Y41*W41,IF(AND($Z$19<200000,Y41>=20),Y41*V41,Y41*U41))),IF($Z$19>=200000,Y41*W41,Y41*U41)) -> 0 | AF41: =IF(Y41/T41=0,"",IF(MOD(Y41,T41)>0,"ОШИБКА!!! неверная кратность на сорт",""))
C42: 46-38-15980 | H42: 2 | I42: руб | J42: WRB_Хвойные | K42: Ель колючая | L42: Picea pungens | M42: Ohlendorffii | N42: WRB | O42: 40-60 | S42: RUS | T42: 1 | U42: 4950 | V42: 4800 | W42: 4500 | X42: 4230 | Z42: =U42*Y42 -> 0 | AA42: =IF(V42<>"",IF(AND($Z$19>=200000,Y42>=20),Y42*X42,IF(AND($Z$19>=200000,Y42<20),Y42*W42,IF(AND($Z$19<200000,Y42>=20),Y42*V42,Y42*U42))),IF($Z$19>=200000,Y42*W42,Y42*U42)) -> 0 | AF42: =IF(Y42/T42=0,"",IF(MOD(Y42,T42)>0,"ОШИБКА!!! неверная кратность на сорт",""))
C43: 46-38-15981 | H43: 9 | I43: руб | J43: WRB_Хвойные | K43: Ель колючая | L43: Picea pungens | M43: Ohlendorffii | N43: WRB | O43: 60-80 | S43: RUS | T43: 1 | U43: 5940 | V43: 5760 | W43: 5400 | X43: 5076 | Z43: =U43*Y43 -> 0 | AA43: =IF(V43<>"",IF(AND($Z$19>=200000,Y43>=20),Y43*X43,IF(AND($Z$19>=200000,Y43<20),Y43*W43,IF(AND($Z$19<200000,Y43>=20),Y43*V43,Y43*U43))),IF($Z$19>=200000,Y43*W43,Y43*U43)) -> 0 | AF43: =IF(Y43/T43=0,"",IF(MOD(Y43,T43)>0,"ОШИБКА!!! неверная кратность на сорт",""))
C44: 46-38-16531 | H44: 4 | I44: руб | J44: WRB_Хвойные | K44: Ель колючая | L44: Picea pungens | M44: Ohlendorffii | N44: WRB | O44: 80-100 | S44: RUS | T44: 1 | U44: 6765 | V44: 6560 | W44: 6150 | X44: 5781 | Z44: =U44*Y44 -> 0 | AA44: =IF(V44<>"",IF(AND($Z$19>=200000,Y44>=20),Y44*X44,IF(AND($Z$19>=200000,Y44<20),Y44*W44,IF(AND($Z$19<200000,Y44>=20),Y44*V44,Y44*U44))),IF($Z$19>=200000,Y44*W44,Y44*U44)) -> 0
C45: 46-318-2651 | D45: 1 | G45: 0 | H45: 129 | I45: руб | J45: WRB_Хвойные | K45: Ель колючая | L45: Picea pungens | M45: Super Blue Seedling | N45: WRB | O45: 40-60 | R45: ЭКСТРА качество | S45: RUS | T45: 1 | U45: 10049 | V45: 9744 | W45: 9135 | X45: 8587 | Z45: =U45*Y45 -> 0 | AA45: =IF(V45<>"",IF(AND($Z$19>=200000,Y45>=20),Y45*X45,IF(AND($Z$19>=200000,Y45<20),Y45*W45,IF(AND($Z$19<200000,Y45>=20),Y45*V45,Y45*U45))),IF($Z$19>=200000,Y45*W45,Y45*U45)) -> 0 | AF45: =IF(Y45/T45=0,"",IF(MOD(Y45,T45)>0,"ОШИБКА!!! неверная кратность на сорт",""))
C46: 46-318-2726 | H46: 173 | I46: руб | J46: WRB_Хвойные | K46: Ель колючая | L46: Picea pungens | M46: Super Blue Seedling | N46: WRB | O46: 60-80 | R46: ЭКСТРА качество | S46: RUS | T46: 1 | U46: 10590 | V46: 10269 | W46: 9627 | X46: 9050 | Z46: =U46*Y46 -> 0 | AA46: =IF(V46<>"",IF(AND($Z$19>=200000,Y46>=20),Y46*X46,IF(AND($Z$19>=200000,Y46<20),Y46*W46,IF(AND($Z$19<200000,Y46>=20),Y46*V46,Y46*U46))),IF($Z$19>=200000,Y46*W46,Y46*U46)) -> 0 | AF46: =IF(Y46/T46=0,"",IF(MOD(Y46,T46)>0,"ОШИБКА!!! неверная кратность на сорт",""))
...
