Workbook
Name _16_неделя_2021: #REF!
Name _16_неделя_2021: #REF!
Name ALVPRX: #REF!
Name ALVPRX: #REF!
Name art: #REF!
Name art: #REF!
Name ast: #REF!
Name ast: #REF!
Name astkl: #REF!
Name astsk: #REF!
Name astsklad: #REF!
Name bron: #REF!
Name cher: #REF!
Name cheras: #REF!
Name chercher: #REF!
Name cherhug: #REF!
Name cherp: #REF!
Name cherr: #REF!
Name chertab: #REF!
Name CHUR: #REF!
Name COMPALV: #REF!
Name dost: #REF!
Name Excel_BuiltIn_Print_Area_2: #REF!
Name Excel_BuiltIn_Print_Area_2_1: #REF!
Name Excel_BuiltIn_Print_Area_2_1_1: #REF!
Name fff: #REF!
Name ffive: #REF!
Name fin: [1]Лист2!$A$1:$C$339
Name final: [1]Лист2!$A$2:$B$339
Name five: #REF!
Name five: #REF!
Name ger: #REF!
Name ger: #REF!
Name hg: #REF!
Name hg: #REF!
Name hgn: #REF!
Name hoog: #REF!
Name hug: #REF!
Name hugeh: #REF!
Name hugen: #REF!
Name hugenhgn: #REF!
Name hugg: #REF!
Name huggen: #REF!
Name huggg: #REF!
Name huhughug: #REF!
Name HYDNUM: #REF!
Name klast: #REF!
Name klient: #REF!
Name lodold: #REF!
Name neg: #REF!
Name negot: #REF!
Name newheko: '[2]рабочий 2022'!$A$10:$L$1012
Name newhugen: #REF!
Name newhugen: #REF!
Name nid: #REF!
Name nid: #REF!
Name nl: #REF!
Name nl: #REF!
Name nlkl: #REF!
Name notready: #REF!

Sheet Условия работы
B13: ✓ | C13: Для оформления договорных документов:
B14: Индивидуальным предпринимателям: | H14: Юридическим лицам:
C15: ● Копию свидетельства ЕГРИП | H15: ● | I15: Копию Устава
C16: ● Копию ИНН | H16: ● | I16: Копию выписки из ЕГРЮЛ
C17: ● Копию паспорта | H17: ● | I17: Копию уведомления УСН или ЕНВД
C18: ● Копию уведомления УСН или ЕНВД | H18: ● | I18: Карточку с реквизитами предприятия
B20: ✓ | C20: Для обеспечения высокого сервиса обслуживания и правильного понимания Ваших потребностей:
C21: ● Заполненную Анкету клиента (шаблон необходимо запросить у Вашего менеджера)
B26: ✓ | C26: Заказ должен быть заполнен в форме настоящего Прайс-листа и:
C27: ● Соответствовать его требованиям к общему минимальному заказу
C28: ● Соответствовать его требованиям к минимальному заказу / кратности на сорт
B29: ✓ | C29: Бронирование заказа осуществляется исключительно после внесения аванса для бронирования
B30: ✓ | C30: Бронирование и предварительные подтверждения по заказам предоставляются до момента выпуска Производителем готовой продукции на основании его прогнозных данных. В процессе производства эти данные могут неоднократно изменяться по независящим от Производителя причинам (пример: погодные катаклизмы)
C31: ● Исходя из этой информации Вам необходимо принять решение о сроках размещения заказа:
C32: - разместить заказ заранее и иметь возможность бронирования максимально широкого ассортимента продукции, но быть готовым к тому, что информация о первоначальном подтверждении по заказу может меняться
C33: - разместить заказ ближе к дате отгрузки из доступного на тот момент стока (как правило, небольшого по ассортименту), но сразу получить более стабильное подтверждение
B34: ✓ | C34: В связи с динамично меняющимися свободными остатками часть заказа или заказ полностью могут быть не подтверждены
C35: ● Чем больше времени проходит с момента выставления счета на оплату до момента поступления оплаты на наш р/счет, тем выше вероятность неподтверждений
C36: ● В случае неподтверждения заказа мы возвращаем аванс, либо, при Вашем согласии, взамен неподтвержденных сортов предлагаем замены
B37: ✓ | C37: После внесения аванса для бронирования, частичный или полный отказ от заказа по Вашей инициативе не возможны.
B41: ✓ | C41: На протяжения всего периода работы мы будем информировать Вас обо всех изменениях, связанных с исполнением заказа
B42: ✓ | C42: Вам необходимо своевременно и в полном объеме производить все оплаты по заказу
C43: ● В случае нарушения сроков оплаты по заказу, предусмотренных условиями Прайс-листа, мы оставляем за собой право аннулировать Ваш заказ и направить товар в свободную продажу. Возврат внесенных по заказу авансов будет произведен в течение 10 дней после полной реализации заказа за минусом понесенных нами затрат на доставку, сборку, хранение и прочих
B44: ✓ | C44: Мы уведомим Вас о дате готовности Товара к отгрузке
C45: ● Вам будет необходимо осуществить приемку Товара оговоренным способом в срок, не превышающий 3-х рабочих дней с момента уведомления.
B46: ✓ | C46: Товары отгружаются с нашего склада на условиях самовывоза или путем организации доставки нашими силами, но за Ваш счет
C47: ● Во избежание длительного ожидания получения заказа в очереди, отгрузка товаров с нашего склада производится на основании Графика отгрузки
C48: ● Включение заказа в график отгрузки производится после полной его оплаты и, в случае необходимости доставки заказа до терминала транспортной компании, после предоставления Вами Доверенности на право передачи заказа в транспортную компанию.
C49: ● График отгрузки утверждается не позднее 14:00 дня предшествующего отгрузке. Поэтому при оплате заказа или предоставлении доверенности после 14:00 заказ может быть включен в График отгрузки не ранее, чем через один рабочий день.
B50: ✓ | C50: Мы не несем ответственности за частичную недопоставку заказа, вызванную неурожаем, либо гибелью растений по причине рисков хранения у Производителя, а также рисков связанных с изъятием сотрудниками таможни образцов товара для взятия проб в целях фитосанитарного контроля
B52: ✓ | C52: Во время выкопки выдача растений осуществляется не раннее 6-12 дней после оплаты заказа.
B53: ✓ | C53: Сроки выкопки и выдачи растений могут изменяться в зависимости от погодных условий.
B57: ✓ | C57: Мы предоставляем услуги по доставке заказов:
C58: ● До адреса Покупателя (По Москве и МО)
C59: ● До терминала любой транспортной компании в г. Москве
B60: ✓ | C60: Вы самостоятельно выбираете транспортную компанию, определяете условия доставки заказа транспортной компанией в пункт назначения и направляете нам четкое задание на передачу груза в форме Доверенности
C61: ● Мы осуществляем передачу товара в транспортную компанию строго в соответствии с требованиями, указанными Вами в бланке доверенности
C62: ● Право собственности на Товар и риск случайной гибели переходят к Вам с момента передачи нами Товара в транспортную компанию
C63: ● Мы не несем ответственности за потерю качества товара в период его доставки транспортной компанией
B68: ✓ | C68: Если мы передаем Товар, собранный в закрытую тару (в упаковке Производителя) или Вы физически не имеете возможности произвести детальную приемку Товара при его отгрузке, то имеете право в течение 3-х рабочих дней с момента получения Товара, сообщить нам об обнаруженных недостатках путем предъявления претензии
...

Sheet Калькулятор
B2: =Предзаказ_осень2026!R18 -> 0 | C2: шт, количество растений | J2: Дорогие партнеры, мы делаем всё возможное, чтобы как можно лучше обеспечить вас качественным посадочным материалом. И хотим честно вас предупредить, что при сильном изменении ситуации на рынке и в мире, которые могут повлечь за собой удорожание стоимости Транспортной перевозки и/или КДП, мы оставляем за собой право пересмотреть цены и условия по настоящему предложению в любое время до момента передачи вам товара.
B3: =Предзаказ_осень2026!R19 -> 0 | C3: итоговая сумма за растения
B4: Не выбрано! | C4: ← Выберите период поставки
B5: на р/счет | C5: ← Выберите способ оплаты
B6: =IF(B5="в кассу",0%,IF(B5="на р/счет",15%,"выберите способ оплаты!")) -> 0.15 | C6: Комиссия за ден. переводы (КДП)
B8: Растения
B9: =SUM(Предзаказ_осень2026!V536:V1105) -> 0 | C9: Количество растений | J9: Стоимость товара иностранного производства, тары, услуги доставки, комиссии за денежный перевод на момент размещения заказа являются ориентировочными/приблизительными. Конечную стоимость Вашего заказа с деталями дополнительных услуг вы сможете расчитать вместе с нашим менеджером.
B10: =B3 -> 0 | C10: Предварительная сумма за растения без КДП | G10: =B3 -> 0
B11: =IF(B6="выберите способ оплаты!","выберите способ оплаты!",B6*G10) -> 0 | C11: Сумма КДП на растения | G11: =IF(B6="выберите способ оплаты!"," - ₽",B6*G10) -> 0
B12: =IF(B6="выберите способ оплаты!","выберите способ оплаты!",B11+B10) -> 0 | C12: Итоговая сумма за растения с КДП | G12: =IF(B6="выберите способ оплаты!"," - ₽",G11+G10) -> 0
B14: ДОРОГОЙ КЛИЕНТ!
B15: Для Вашего удобства мы разрабатываем максимально подробный и прозрачный формат расчета вместимости в тару и доставки.
B16: Просим Вас отнестись с понимание и участием.
B17: Компания Садовая палитра будет Вам благодарна за комментарии и советы по улучшению качества обслуживания!
B19: Доп. услуги (в разработке) | C19: =IF(AND(OR(B20="Навалом",B20="Не выбрано!"),OR(B21="Самовывоз",B21="Не выбрано!")),"",IF(COUNTIF(R74:R82,"В заказе присутствуют крупногабартиные растения, требуется корректировка расчета нашим логистом!")>0,"В заказе присутствуют крупногабартиные растения, требуется корректировка расчета нашим логистом!",""))
B20: Не выбрано! | C20: ← Выберите способ отгрузки растений | K20: *Тара платная, выберете в калькуляторе способ отгрузки Ваших растений: навалом или в тару.
B21: Не выбрано! | C21: ← Выберите способ доставки | E21: *Навалом в транспортную компанию НЕ отгружаем! | K21: Если Ваш груз упакован в разную тару - Вас ждет индивидуальный расчет упаковки растений.
C22: =IF(B21="Доставка до клиента","← Введите расстояние до вас в км",IF(AND(B21="Доставка до ТК",B20="Навалом"),"Отгрузка навалом в ТК невозможна! Выберите другой способ!","")) | K22: *Доставка платная до ближайшего к нашему складу терминала ТК: ПЭК, ЖелДорЭкспедиция, Вера-1.
B23: =IF(B20="Навалом",0,IF(B20="В таре",R85,0)) -> 0 | C23: Предварительная сумма за тару без КДП | K23: Стандартная стоимость доставки до ТК 3000 рублей за 5 и более ПМ.
B24: =IF(B21="Самовывоз",0,IF(B21="Доставка до ТК",IF(B6="выберите способ оплаты!","выберите способ оплаты!",IF(B20<>"Навалом",ROUNDUP(R86,0)*3000,"выберите отгрузку в таре!")),IF(B21="Доставка до клиента",IF(B22="","введите расстояние!",R87),0))) -> 0 | C24: Предварительная сумма за доставку без КДП | K24: Если в заказе менее 5 ПМ - расчет стоимости доставки индивидуальный.
B25: =IF(B6="выберите способ оплаты!","выберите способ оплаты!",B23+B23*B6) -> 0 | C25: Итоговая сумма за тару с КДП (ориентировочно) | K25: *Доставка платная до Вашего адреса.
B26: =IF(B6="выберите способ оплаты!","выберите способ оплаты!",IF(B24="выберите отгрузку в таре!","выберите отгрузку в таре!",IF(B24="введите расстояние!","введите расстояние!",B24+B24*B6))) -> 0 | C26: Итоговая сумма за доставку с КДП (ориентировочно)
B29: =IFERROR(B12+B25+B26,"заполните все параметры") -> 0 | C29: Сумма к оплате (ориентировочно) | G29: *Итоговую сумму заказа составляют: стоимость растений+стоимость тары+стоимость доставки+комиссия за ден переводы.
B38: СПРАВОЧНАЯ вместимость в тару, шт | D38: Точный расчет количества и стоимости тары - после формирования Вашего заказа. | K38: СПРАВОЧНЫЙ расчет объёма заказа | O38: Точный расчет объема - после формирования Вашего заказа.
B40: Контейнер/Тара | D40: Ящик пластиковый 60*40*22 40шт на ПМ | E40: Ящик деревянный 100*120*100 2шт на ПМ | F40: Кольцо 100*120*40 | G40: Поддон 100*120*12 | H40: Бокс для выкопки нестандарт (до 140+) до ТК | I40: Крышка для Ящика деревянного 100*120*2 | K40: Кол-во растений в заказе, шт | L40: Предварительный вес заказа, кг | M40: Ящик пластиковый 60*40*30 40 штук на ПМ | N40: Ящик деревянный 100*120*100 1/2 ПМ | O40: Кольцо 100*120*40 1 шт на 1ПМ (не ТК, клиенту в фуру) | P40: Поддон 100*120*20 | Q40: Бокс для выкопки нестандарт (до 140+) до ТК | R40: ИТОГО
B41: Цена за тару | C41: Вес растения | D41: 350 | E41: 3900 | F41: 1600 | G41: 400 | H41: 5500 | I41: 400
B42: P7 | C42: 0.5 | D42: 40 | E42: 1500 справочно | F42: 700 справочно | K42: =SUMIF(Предзаказ_осень2026!#REF!,Калькулятор!B42,Предзаказ_осень2026!#REF!) -> #REF! | L42: =C42*K42 -> #REF! | M42: =K42/D42 -> #REF!
B43: P9 | C43: 0.55 | D43: 24 | E43: 1000 справочно | F43: 400 справочно | K43: =SUMIF(Предзаказ_осень2026!#REF!,Калькулятор!B43,Предзаказ_осень2026!#REF!) -> #REF! | L43: =C43*K43 -> #REF! | M43: =K43/D43 -> #REF!
B44: P13 | C44: 1 | E44: 190 | K44: =SUMIF(Предзаказ_осень2026!#REF!,Калькулятор!B44,Предзаказ_осень2026!#REF!) -> #REF! | L44: =C44*K44 -> #REF! | N44: =K44/E44 -> #REF!
B45: P14 | C45: 2 | E45: 120 | K45: =SUMIF(Предзаказ_осень2026!#REF!,Калькулятор!B45,Предзаказ_осень2026!#REF!) -> #REF! | L45: =C45*K45 -> #REF! | N45: =K45/E45 -> #REF!
B46: C1 | C46: 1 | E46: 190 | K46: =SUMIF(Предзаказ_осень2026!#REF!,Калькулятор!B46,Предзаказ_осень2026!#REF!) -> #REF! | L46: =C46*K46 -> #REF! | N46: =K46/E46 -> #REF!
B47: C1,5 | C47: 1.5 | E47: 165 | K47: =SUMIF(Предзаказ_осень2026!#REF!,Калькулятор!B47,Предзаказ_осень2026!#REF!) -> #REF! | L47: =C47*K47 -> #REF! | N47: =K47/E47 -> #REF!
B48: C2 | C48: 2 | E48: 120 | K48: =SUMIF(Предзаказ_осень2026!#REF!,Калькулятор!B48,Предзаказ_осень2026!#REF!) -> #REF! | L48: =C48*K48 -> #REF! | N48: =K48/E48 -> #REF!
B49: C2,5 | C49: 2.5 | K49: =SUMIF(Предзаказ_осень2026!#REF!,Калькулятор!B49,Предзаказ_осень2026!#REF!) -> #REF! | L49: =C49*K49 -> #REF!
B50: C2 PA | C50: 2.3 | G50: 90 | K50: =SUMIF(Предзаказ_осень2026!#REF!,Калькулятор!B50,Предзаказ_осень2026!#REF!) -> #REF! | L50: =C50*K50 -> #REF! | P50: =K50/G50 -> #REF!
B51: C3 | C51: 3 | E51: 100 | K51: =SUMIF(Предзаказ_осень2026!#REF!,Калькулятор!B51,Предзаказ_осень2026!#REF!) -> #REF! | L51: =C51*K51 -> #REF! | N51: =K51/E51 -> #REF!
B52: C3 PA | C52: 3.3 | G52: 70 | K52: =SUMIF(Предзаказ_осень2026!#REF!,Калькулятор!B52,Предзаказ_осень2026!#REF!) -> #REF! | L52: =C52*K52 -> #REF! | P52: =K52/G52 -> #REF!
B53: C4 | C53: 4 | E53: 40 | K53: =SUMIF(Предзаказ_осень2026!#REF!,Калькулятор!B53,Предзаказ_осень2026!#REF!) -> #REF! | L53: =C53*K53 -> #REF! | N53: =K53/E53 -> #REF!
B54: С4 PA | C54: 4.3 | K54: =SUMIF(Предзаказ_осень2026!#REF!,Калькулятор!B54,Предзаказ_осень2026!#REF!) -> #REF! | L54: =C54*K54 -> #REF!
B55: C4,5 | C55: 4.5 | K55: =SUMIF(Предзаказ_осень2026!#REF!,Калькулятор!B55,Предзаказ_осень2026!#REF!) -> #REF! | L55: =C55*K55 -> #REF!
...

Sheet Предзаказ_осень2026
N1: Предложение ОКС_осень 2026 | S1: Подпишитесь на наши каналы в MAX и Telegram, чтобы всегда быть в курсе последних новостей, предложений и акций:
J3: Адрес склада: Московская область, Каширский район, дер. Барабаново
J4: Выдача заказов: ОКС и пионы - октябрь-ноябрь 2026
J5: * Сроки выкопки и выдачи растений могут измениться в зависимости от погодных условий.
J7: Общий минимальный заказ 25 000 ₽
J9: Саженцы с ОКС упакованы по 25 шт. в пучок, 3/х летки по 10 шт. в пучок.
J10: Многолетники с ОКС упаковываны по 25 шт. в перфорированный пакет.
J11: При покупке товаров ОКС - предложим контейнер С3 для пересадки на каждую позицию со скидкой 50%
J13: При полной оплате заказа до 25 августа 2026 года предоставляется скидка 5%.
J14: Аванс для бронирования: 50%, оплата перед отгрузкой 50%
J15: Оплата в рублях.
J16: * Цены в прайсе указаны при оплате наличными в кассу. При оплате по безналу выберете в калькуляторе способ оплаты на р/счет.
J18: Перед оформлением заказа, пожалуйста, ознакомьтесь с условиями работы и подтвердите своё согласие с ними: | R18: =SUM(V25:V544) -> 0 | T18: количество растений
K19: >>> Условия работы <<< | Q19: =IF(R19=0, "", IF(R19<25000, "ОШИБКА!!!", "")) | R19: =SUM(X25:X544) -> 0 | T19: итоговая сумма за растения | X19: =IF(R19=0, "", IF(R19<25000, "НЕ СОБЛЮДЕНЫ УСЛОВИЯ минимальной суммы заказа", ""))
N21: с условиями работы ознакомлен | O21: нет | R21: Перейти в калькулятор <<<<<<
D22: АСТ ОКС, Р9 | R22: Опт (50 тыс. ₽ - 200 тыс. ₽) | T22: Крупный опт (≥200 тыс. ₽) | W22: =SUM(W24:W544) -> 0
D23: Всего | E23: свободно | G23: Товарная категория | H23: Род, вид на русском | I23: Род, вид на латинском | J23: Сорт | K23: Упаковка корневой системы | L23: Высота, см | M23: Ширина, см | N23: Высота штамба, см | O23: Примечание | P23: Страна производитель | Q23: Минимальный заказ, шт | R23: заказ <20 шт на позицию ОПТ | S23: заказ ≥20 шт на позицию ОПТ-3% | T23: заказ <20 шт на позицию ОПТ-9% | U23: заказ ≥20 шт на позицию ОПТ-15% | V23: Заказ, шт | W23: Сумма предварительная | X23: Общая сумма заказа в рублях | Y23: Подтверждение | Z23: Ассортимент | AA23: Особенности | AB23: Описание
C24: * | G24: ОКС_ Гортензии
C25: 46-38-14791 | D25: 8 | F25: руб | G25: ОКС_ Гортензии | H25: Гортензия древовидная | I25: Hydrangea arborescens | J25: Bounty | K25: BR 0+1+1 1-2 tak | P25: RUS | Q25: 25 | R25: 115 | S25: 98 | T25: 98 | U25: 98 | W25: =R25*V25 -> 0 | X25: =IF(S25<>"",IF(AND($W$22>=200000,V25>=20),V25*U25,IF(AND($W$22>=200000,V25<20),V25*T25,IF(AND($W$22<200000,V25>=20),V25*S25,V25*R25))),IF($W$22>=200000,V25*T25,V25*R25)) -> 0 | Y25: Выдача октябрь-ноябрь 2026 | AC25: =IF(V25/Q25=0,"",IF(MOD(V25,Q25)>0,"ОШИБКА!!! неверная кратность на сорт",""))
D26: 16 | F26: руб | G26: ОКС_ Гортензии | H26: Гортензия древовидная | I26: Hydrangea arborescens | J26: Bounty | K26: BR 0+1+1 3-4 tak | P26: RUS | Q26: 25 | R26: 135 | S26: 115 | T26: 115 | U26: 115 | W26: =R26*V26 -> 0 | X26: =IF(S26<>"",IF(AND($W$22>=200000,V26>=20),V26*U26,IF(AND($W$22>=200000,V26<20),V26*T26,IF(AND($W$22<200000,V26>=20),V26*S26,V26*R26))),IF($W$22>=200000,V26*T26,V26*R26)) -> 0 | Y26: Выдача октябрь-ноябрь 2026 | AC26: =IF(V26/Q26=0,"",IF(MOD(V26,Q26)>0,"ОШИБКА!!! неверная кратность на сорт",""))
D27: 7 | F27: руб | G27: ОКС_ Гортензии | H27: Гортензия древовидная | I27: Hydrangea arborescens | J27: Bounty | K27: BR 0+1+1 5-6 tak | P27: RUS | Q27: 25 | R27: 141 | S27: 120 | T27: 120 | U27: 120 | W27: =R27*V27 -> 0 | X27: =IF(S27<>"",IF(AND($W$22>=200000,V27>=20),V27*U27,IF(AND($W$22>=200000,V27<20),V27*T27,IF(AND($W$22<200000,V27>=20),V27*S27,V27*R27))),IF($W$22>=200000,V27*T27,V27*R27)) -> 0 | Y27: Выдача октябрь-ноябрь 2026 | AC27: =IF(V27/Q27=0,"",IF(MOD(V27,Q27)>0,"ОШИБКА!!! неверная кратность на сорт",""))
C28: 46-38-15989 | D28: 12 | F28: руб | G28: ОКС_ Гортензии | H28: Гортензия древовидная | I28: Hydrangea arborescens | J28: Radiata | K28: BR 0+1+1 1-2 tak | P28: RUS | Q28: 25 | R28: 115 | S28: 98 | T28: 98 | U28: 98 | W28: =R28*V28 -> 0 | X28: =IF(S28<>"",IF(AND($W$22>=200000,V28>=20),V28*U28,IF(AND($W$22>=200000,V28<20),V28*T28,IF(AND($W$22<200000,V28>=20),V28*S28,V28*R28))),IF($W$22>=200000,V28*T28,V28*R28)) -> 0 | Y28: Выдача октябрь-ноябрь 2026 | AC28: =IF(V28/Q28=0,"",IF(MOD(V28,Q28)>0,"ОШИБКА!!! неверная кратность на сорт",""))
D29: 24 | F29: руб | G29: ОКС_ Гортензии | H29: Гортензия древовидная | I29: Hydrangea arborescens | J29: Radiata | K29: BR 0+1+1 3-4 tak | P29: RUS | Q29: 25 | R29: 135 | S29: 115 | T29: 115 | U29: 115 | W29: =R29*V29 -> 0 | X29: =IF(S29<>"",IF(AND($W$22>=200000,V29>=20),V29*U29,IF(AND($W$22>=200000,V29<20),V29*T29,IF(AND($W$22<200000,V29>=20),V29*S29,V29*R29))),IF($W$22>=200000,V29*T29,V29*R29)) -> 0 | Y29: Выдача октябрь-ноябрь 2026 | AC29: =IF(V29/Q29=0,"",IF(MOD(V29,Q29)>0,"ОШИБКА!!! неверная кратность на сорт",""))
D30: 12 | F30: руб | G30: ОКС_ Гортензии | H30: Гортензия древовидная | I30: Hydrangea arborescens | J30: Radiata | K30: BR 0+1+1 5-6 tak | P30: RUS | Q30: 25 | R30: 141 | S30: 120 | T30: 120 | U30: 120 | W30: =R30*V30 -> 0 | X30: =IF(S30<>"",IF(AND($W$22>=200000,V30>=20),V30*U30,IF(AND($W$22>=200000,V30<20),V30*T30,IF(AND($W$22<200000,V30>=20),V30*S30,V30*R30))),IF($W$22>=200000,V30*T30,V30*R30)) -> 0 | Y30: Выдача октябрь-ноябрь 2026 | AC30: =IF(V30/Q30=0,"",IF(MOD(V30,Q30)>0,"ОШИБКА!!! неверная кратность на сорт",""))
C31: 46-38-12821 | D31: 22 | F31: руб | G31: ОКС_ Гортензии | H31: Гортензия метельчатая | I31: Hydrangea paniculata | J31: Big Ben | K31: BR 0+1+1 1-2 tak | P31: RUS | Q31: 25 | R31: 115 | S31: 98 | T31: 98 | U31: 98 | W31: =R31*V31 -> 0 | X31: =IF(S31<>"",IF(AND($W$22>=200000,V31>=20),V31*U31,IF(AND($W$22>=200000,V31<20),V31*T31,IF(AND($W$22<200000,V31>=20),V31*S31,V31*R31))),IF($W$22>=200000,V31*T31,V31*R31)) -> 0 | Y31: Выдача октябрь-ноябрь 2026 | AC31: =IF(V31/Q31=0,"",IF(MOD(V31,Q31)>0,"ОШИБКА!!! неверная кратность на сорт",""))
D32: 45 | F32: руб | G32: ОКС_ Гортензии | H32: Гортензия метельчатая | I32: Hydrangea paniculata | J32: Big Ben | K32: BR 0+1+1 3-4 tak | P32: RUS | Q32: 25 | R32: 135 | S32: 115 | T32: 115 | U32: 115 | W32: =R32*V32 -> 0 | X32: =IF(S32<>"",IF(AND($W$22>=200000,V32>=20),V32*U32,IF(AND($W$22>=200000,V32<20),V32*T32,IF(AND($W$22<200000,V32>=20),V32*S32,V32*R32))),IF($W$22>=200000,V32*T32,V32*R32)) -> 0 | Y32: Выдача октябрь-ноябрь 2026 | AC32: =IF(V32/Q32=0,"",IF(MOD(V32,Q32)>0,"ОШИБКА!!! неверная кратность на сорт",""))
D33: 22 | F33: руб | G33: ОКС_ Гортензии | H33: Гортензия метельчатая | I33: Hydrangea paniculata | J33: Big Ben | K33: BR 0+1+1 5-6 tak | P33: RUS | Q33: 25 | R33: 141 | S33: 120 | T33: 120 | U33: 120 | W33: =R33*V33 -> 0 | X33: =IF(S33<>"",IF(AND($W$22>=200000,V33>=20),V33*U33,IF(AND($W$22>=200000,V33<20),V33*T33,IF(AND($W$22<200000,V33>=20),V33*S33,V33*R33))),IF($W$22>=200000,V33*T33,V33*R33)) -> 0 | Y33: Выдача октябрь-ноябрь 2026 | AC33: =IF(V33/Q33=0,"",IF(MOD(V33,Q33)>0,"ОШИБКА!!! неверная кратность на сорт",""))
C34: 46-38-15988 | D34: 20 | F34: руб | G34: ОКС_ Гортензии | H34: Гортензия метельчатая | I34: Hydrangea paniculata | J34: Bonfire | K34: BR 0+1+1 1-2 tak | P34: RUS | Q34: 25 | R34: 115 | S34: 98 | T34: 98 | U34: 98 | W34: =R34*V34 -> 0 | X34: =IF(S34<>"",IF(AND($W$22>=200000,V34>=20),V34*U34,IF(AND($W$22>=200000,V34<20),V34*T34,IF(AND($W$22<200000,V34>=20),V34*S34,V34*R34))),IF($W$22>=200000,V34*T34,V34*R34)) -> 0 | Y34: Выдача октябрь-ноябрь 2026 | AC34: =IF(V34/Q34=0,"",IF(MOD(V34,Q34)>0,"ОШИБКА!!! неверная кратность на сорт",""))
D35: 40 | F35: руб | G35: ОКС_ Гортензии | H35: Гортензия метельчатая | I35: Hydrangea paniculata | J35: Bonfire | K35: BR 0+1+1 3-4 tak | P35: RUS | Q35: 25 | R35: 135 | S35: 115 | T35: 115 | U35: 115 | W35: =R35*V35 -> 0 | X35: =IF(S35<>"",IF(AND($W$22>=200000,V35>=20),V35*U35,IF(AND($W$22>=200000,V35<20),V35*T35,IF(AND($W$22<200000,V35>=20),V35*S35,V35*R35))),IF($W$22>=200000,V35*T35,V35*R35)) -> 0 | Y35: Выдача октябрь-ноябрь 2026 | AC35: =IF(V35/Q35=0,"",IF(MOD(V35,Q35)>0,"ОШИБКА!!! неверная кратность на сорт",""))
D36: 20 | F36: руб | G36: ОКС_ Гортензии | H36: Гортензия метельчатая | I36: Hydrangea paniculata | J36: Bonfire | K36: BR 0+1+1 5-6 tak | P36: RUS | Q36: 25 | R36: 141 | S36: 120 | T36: 120 | U36: 120 | W36: =R36*V36 -> 0 | X36: =IF(S36<>"",IF(AND($W$22>=200000,V36>=20),V36*U36,IF(AND($W$22>=200000,V36<20),V36*T36,IF(AND($W$22<200000,V36>=20),V36*S36,V36*R36))),IF($W$22>=200000,V36*T36,V36*R36)) -> 0 | Y36: Выдача октябрь-ноябрь 2026 | AC36: =IF(V36/Q36=0,"",IF(MOD(V36,Q36)>0,"ОШИБКА!!! неверная кратность на сорт",""))
C37: 46-38-12825 | D37: 21 | F37: руб | G37: ОКС_ Гортензии | H37: Гортензия метельчатая | I37: Hydrangea paniculata | J37: Dentelle de Gorron | K37: BR 0+1+1 1-2 tak | P37: RUS | Q37: 25 | R37: 115 | S37: 98 | T37: 98 | U37: 98 | W37: =R37*V37 -> 0 | X37: =IF(S37<>"",IF(AND($W$22>=200000,V37>=20),V37*U37,IF(AND($W$22>=200000,V37<20),V37*T37,IF(AND($W$22<200000,V37>=20),V37*S37,V37*R37))),IF($W$22>=200000,V37*T37,V37*R37)) -> 0 | Y37: Выдача октябрь-ноябрь 2026 | AC37: =IF(V37/Q37=0,"",IF(MOD(V37,Q37)>0,"ОШИБКА!!! неверная кратность на сорт",""))
D38: 41 | F38: руб | G38: ОКС_ Гортензии | H38: Гортензия метельчатая | I38: Hydrangea paniculata | J38: Dentelle de Gorron | K38: BR 0+1+1 3-4 tak | P38: RUS | Q38: 25 | R38: 135 | S38: 115 | T38: 115 | U38: 115 | W38: =R38*V38 -> 0 | X38: =IF(S38<>"",IF(AND($W$22>=200000,V38>=20),V38*U38,IF(AND($W$22>=200000,V38<20),V38*T38,IF(AND($W$22<200000,V38>=20),V38*S38,V38*R38))),IF($W$22>=200000,V38*T38,V38*R38)) -> 0 | Y38: Выдача октябрь-ноябрь 2026 | AC38: =IF(V38/Q38=0,"",IF(MOD(V38,Q38)>0,"ОШИБКА!!! неверная кратность на сорт",""))
D39: 20 | F39: руб | G39: ОКС_ Гортензии | H39: Гортензия метельчатая | I39: Hydrangea paniculata | J39: Dentelle de Gorron | K39: BR 0+1+1 5-6 tak | P39: RUS | Q39: 25 | R39: 141 | S39: 120 | T39: 120 | U39: 120 | W39: =R39*V39 -> 0 | X39: =IF(S39<>"",IF(AND($W$22>=200000,V39>=20),V39*U39,IF(AND($W$22>=200000,V39<20),V39*T39,IF(AND($W$22<200000,V39>=20),V39*S39,V39*R39))),IF($W$22>=200000,V39*T39,V39*R39)) -> 0 | Y39: Выдача октябрь-ноябрь 2026 | AC39: =IF(V39/Q39=0,"",IF(MOD(V39,Q39)>0,"ОШИБКА!!! неверная кратность на сорт",""))
C40: 46-38-16491 | D40: 36 | F40: руб | G40: ОКС_ Гортензии | H40: Гортензия метельчатая | I40: Hydrangea paniculata | J40: Dolly | K40: BR 0+1+1 1-2 tak | P40: RUS | Q40: 25 | R40: 115 | S40: 98 | T40: 98 | U40: 98 | W40: =R40*V40 -> 0 | X40: =IF(S40<>"",IF(AND($W$22>=200000,V40>=20),V40*U40,IF(AND($W$22>=200000,V40<20),V40*T40,IF(AND($W$22<200000,V40>=20),V40*S40,V40*R40))),IF($W$22>=200000,V40*T40,V40*R40)) -> 0 | Y40: Выдача октябрь-ноябрь 2026 | AC40: =IF(V40/Q40=0,"",IF(MOD(V40,Q40)>0,"ОШИБКА!!! неверная кратность на сорт",""))
D41: 71 | F41: руб | G41: ОКС_ Гортензии | H41: Гортензия метельчатая | I41: Hydrangea paniculata | J41: Dolly | K41: BR 0+1+1 3-4 tak | P41: RUS | Q41: 25 | R41: 135 | S41: 115 | T41: 115 | U41: 115 | W41: =R41*V41 -> 0 | X41: =IF(S41<>"",IF(AND($W$22>=200000,V41>=20),V41*U41,IF(AND($W$22>=200000,V41<20),V41*T41,IF(AND($W$22<200000,V41>=20),V41*S41,V41*R41))),IF($W$22>=200000,V41*T41,V41*R41)) -> 0 | Y41: Выдача октябрь-ноябрь 2026 | AC41: =IF(V41/Q41=0,"",IF(MOD(V41,Q41)>0,"ОШИБКА!!! неверная кратность на сорт",""))
D42: 36 | F42: руб | G42: ОКС_ Гортензии | H42: Гортензия метельчатая | I42: Hydrangea paniculata | J42: Dolly | K42: BR 0+1+1 5-6 tak | P42: RUS | Q42: 25 | R42: 141 | S42: 120 | T42: 120 | U42: 120 | W42: =R42*V42 -> 0 | X42: =IF(S42<>"",IF(AND($W$22>=200000,V42>=20),V42*U42,IF(AND($W$22>=200000,V42<20),V42*T42,IF(AND($W$22<200000,V42>=20),V42*S42,V42*R42))),IF($W$22>=200000,V42*T42,V42*R42)) -> 0 | Y42: Выдача октябрь-ноябрь 2026 | AC42: =IF(V42/Q42=0,"",IF(MOD(V42,Q42)>0,"ОШИБКА!!! неверная кратность на сорт",""))
C43: 46-38-12829 | D43: 53 | F43: руб | G43: ОКС_ Гортензии | H43: Гортензия метельчатая | I43: Hydrangea paniculata | J43: Early Sensation | K43: BR 0+1+1 1-2 tak | P43: RUS | Q43: 25 | R43: 115 | S43: 98 | T43: 98 | U43: 98 | W43: =R43*V43 -> 0 | X43: =IF(S43<>"",IF(AND($W$22>=200000,V43>=20),V43*U43,IF(AND($W$22>=200000,V43<20),V43*T43,IF(AND($W$22<200000,V43>=20),V43*S43,V43*R43))),IF($W$22>=200000,V43*T43,V43*R43)) -> 0 | Y43: Выдача октябрь-ноябрь 2026 | AC43: =IF(V43/Q43=0,"",IF(MOD(V43,Q43)>0,"ОШИБКА!!! неверная кратность на сорт",""))
C44: 46-38-11632 | D44: 106 | F44: руб | G44: ОКС_ Гортензии | H44: Гортензия метельчатая | I44: Hydrangea paniculata | J44: Early Sensation | K44: BR 0+1+1 3-4 tak | P44: RUS | Q44: 25 | R44: 135 | S44: 115 | T44: 115 | U44: 115 | W44: =R44*V44 -> 0 | X44: =IF(S44<>"",IF(AND($W$22>=200000,V44>=20),V44*U44,IF(AND($W$22>=200000,V44<20),V44*T44,IF(AND($W$22<200000,V44>=20),V44*S44,V44*R44))),IF($W$22>=200000,V44*T44,V44*R44)) -> 0 | Y44: Выдача октябрь-ноябрь 2026 | AC44: =IF(V44/Q44=0,"",IF(MOD(V44,Q44)>0,"ОШИБКА!!! неверная кратность на сорт",""))
C45: 46-38-12830 | D45: 53 | F45: руб | G45: ОКС_ Гортензии | H45: Гортензия метельчатая | I45: Hydrangea paniculata | J45: Early Sensation | K45: BR 0+1+1 5-6 tak | P45: RUS | Q45: 25 | R45: 141 | S45: 120 | T45: 120 | U45: 120 | W45: =R45*V45 -> 0 | X45: =IF(S45<>"",IF(AND($W$22>=200000,V45>=20),V45*U45,IF(AND($W$22>=200000,V45<20),V45*T45,IF(AND($W$22<200000,V45>=20),V45*S45,V45*R45))),IF($W$22>=200000,V45*T45,V45*R45)) -> 0 | Y45: Выдача октябрь-ноябрь 2026 | AC45: =IF(V45/Q45=0,"",IF(MOD(V45,Q45)>0,"ОШИБКА!!! неверная кратность на сорт",""))
C46: 46-38-12831 | D46: 243 | F46: руб | G46: ОКС_ Гортензии | H46: Гортензия метельчатая | I46: Hydrangea paniculata | J46: Fraise Melba | K46: BR 0+1+1 1-2 tak | P46: RUS | Q46: 25 | R46: 115 | S46: 98 | T46: 98 | U46: 98 | W46: =R46*V46 -> 0 | X46: =IF(S46<>"",IF(AND($W$22>=200000,V46>=20),V46*U46,IF(AND($W$22>=200000,V46<20),V46*T46,IF(AND($W$22<200000,V46>=20),V46*S46,V46*R46))),IF($W$22>=200000,V46*T46,V46*R46)) -> 0 | Y46: Выдача октябрь-ноябрь 2026 | AC46: =IF(V46/Q46=0,"",IF(MOD(V46,Q46)>0,"ОШИБКА!!! неверная кратность на сорт",""))
...
